BEGIN:VCALENDAR
VERSION:2.0
PRODID:-//Chestnut Residence at University of Toronto - ECPv6.15.20//NONSGML v1.0//EN
CALSCALE:GREGORIAN
METHOD:PUBLISH
X-WR-CALNAME:Chestnut Residence at University of Toronto
X-ORIGINAL-URL:https://chestnut.utoronto.ca
X-WR-CALDESC:Events for Chestnut Residence at University of Toronto
REFRESH-INTERVAL;VALUE=DURATION:PT1H
X-Robots-Tag:noindex
X-PUBLISHED-TTL:PT1H
BEGIN:VTIMEZONE
TZID:America/Toronto
BEGIN:DAYLIGHT
TZOFFSETFROM:-0500
TZOFFSETTO:-0400
TZNAME:EDT
DTSTART:20230312T070000
END:DAYLIGHT
BEGIN:STANDARD
TZOFFSETFROM:-0400
TZOFFSETTO:-0500
TZNAME:EST
DTSTART:20231105T060000
END:STANDARD
BEGIN:DAYLIGHT
TZOFFSETFROM:-0500
TZOFFSETTO:-0400
TZNAME:EDT
DTSTART:20240310T070000
END:DAYLIGHT
BEGIN:STANDARD
TZOFFSETFROM:-0400
TZOFFSETTO:-0500
TZNAME:EST
DTSTART:20241103T060000
END:STANDARD
BEGIN:DAYLIGHT
TZOFFSETFROM:-0500
TZOFFSETTO:-0400
TZNAME:EDT
DTSTART:20250309T070000
END:DAYLIGHT
BEGIN:STANDARD
TZOFFSETFROM:-0400
TZOFFSETTO:-0500
TZNAME:EST
DTSTART:20251102T060000
END:STANDARD
END:VTIMEZONE
BEGIN:VEVENT
DTSTART;TZID=America/Toronto:20240122T163000
DTEND;TZID=America/Toronto:20240122T170000
DTSTAMP:20260419T094507
CREATED:20240112T222107Z
LAST-MODIFIED:20240117T185927Z
UID:10000056-1705941000-1705942800@chestnut.utoronto.ca
SUMMARY:RESCHEDULED: Residence Affairs Committee Meeting
DESCRIPTION:*Please note this event will now take place on Monday\, January 22nd\, 4:45-5pm \n\nTake part in the next Residence Affairs Committee Meeting.\n\nAll Chestnut residents are invited to join the Open Forum taking place in the final 15 minutes (4:45 – 5pm) of the meeting to voice comments or ask any questions.\n\nThe meeting takes place virtually on Zoom. Join the session using the information below:\n\nMeeting link\nMeeting ID: 883 7526 8251\nPasscode: 455084
URL:https://chestnut.utoronto.ca/event/residence-affairs-committee-meeting-2/
ATTACH;FMTTYPE=image/png:https://chestnut.utoronto.ca/wp-content/uploads/Residence-Affairs-Committee-Meeting.png
END:VEVENT
END:VCALENDAR