BEGIN:VCALENDAR
VERSION:2.0
PRODID:-//Chestnut Residence at University of Toronto - ECPv6.15.20//NONSGML v1.0//EN
CALSCALE:GREGORIAN
METHOD:PUBLISH
X-WR-CALNAME:Chestnut Residence at University of Toronto
X-ORIGINAL-URL:https://chestnut.utoronto.ca
X-WR-CALDESC:Events for Chestnut Residence at University of Toronto
REFRESH-INTERVAL;VALUE=DURATION:PT1H
X-Robots-Tag:noindex
X-PUBLISHED-TTL:PT1H
BEGIN:VTIMEZONE
TZID:America/Toronto
BEGIN:DAYLIGHT
TZOFFSETFROM:-0500
TZOFFSETTO:-0400
TZNAME:EDT
DTSTART:20230312T070000
END:DAYLIGHT
BEGIN:STANDARD
TZOFFSETFROM:-0400
TZOFFSETTO:-0500
TZNAME:EST
DTSTART:20231105T060000
END:STANDARD
BEGIN:DAYLIGHT
TZOFFSETFROM:-0500
TZOFFSETTO:-0400
TZNAME:EDT
DTSTART:20240310T070000
END:DAYLIGHT
BEGIN:STANDARD
TZOFFSETFROM:-0400
TZOFFSETTO:-0500
TZNAME:EST
DTSTART:20241103T060000
END:STANDARD
BEGIN:DAYLIGHT
TZOFFSETFROM:-0500
TZOFFSETTO:-0400
TZNAME:EDT
DTSTART:20250309T070000
END:DAYLIGHT
BEGIN:STANDARD
TZOFFSETFROM:-0400
TZOFFSETTO:-0500
TZNAME:EST
DTSTART:20251102T060000
END:STANDARD
END:VTIMEZONE
BEGIN:VEVENT
DTSTART;TZID=America/Toronto:20240323T200000
DTEND;TZID=America/Toronto:20240323T230000
DTSTAMP:20260420T074050
CREATED:20240307T202933Z
LAST-MODIFIED:20240308T205231Z
UID:10000130-1711224000-1711234800@chestnut.utoronto.ca
SUMMARY:Engineering ESP: CDS Finish Line Party
DESCRIPTION:Mark your calendars – we’re hosting a work party the weekend before the Conceptual Design Specification project is due! \nThis will be structured work time to learn good time management and work techniques\, giving you a chance to avoid the stress of leaving it until the last minute. \nWe’ll also have snacks to support effective studying. \nWhen and where:\nSaturday\, March 23\n8 – 11pm\, Urban Lounge
URL:https://chestnut.utoronto.ca/event/eng-esp-conceptual-design-specification-work-party/
ATTACH;FMTTYPE=image/png:https://chestnut.utoronto.ca/wp-content/uploads/Highlights-58.png
END:VEVENT
END:VCALENDAR