BEGIN:VCALENDAR
VERSION:2.0
PRODID:-//Chestnut Residence at University of Toronto - ECPv6.15.20//NONSGML v1.0//EN
CALSCALE:GREGORIAN
METHOD:PUBLISH
X-ORIGINAL-URL:https://chestnut.utoronto.ca
X-WR-CALDESC:Events for Chestnut Residence at University of Toronto
REFRESH-INTERVAL;VALUE=DURATION:PT1H
X-Robots-Tag:noindex
X-PUBLISHED-TTL:PT1H
BEGIN:VTIMEZONE
TZID:America/Toronto
BEGIN:DAYLIGHT
TZOFFSETFROM:-0500
TZOFFSETTO:-0400
TZNAME:EDT
DTSTART:20240310T070000
END:DAYLIGHT
BEGIN:STANDARD
TZOFFSETFROM:-0400
TZOFFSETTO:-0500
TZNAME:EST
DTSTART:20241103T060000
END:STANDARD
BEGIN:DAYLIGHT
TZOFFSETFROM:-0500
TZOFFSETTO:-0400
TZNAME:EDT
DTSTART:20250309T070000
END:DAYLIGHT
BEGIN:STANDARD
TZOFFSETFROM:-0400
TZOFFSETTO:-0500
TZNAME:EST
DTSTART:20251102T060000
END:STANDARD
BEGIN:DAYLIGHT
TZOFFSETFROM:-0500
TZOFFSETTO:-0400
TZNAME:EDT
DTSTART:20260308T070000
END:DAYLIGHT
BEGIN:STANDARD
TZOFFSETFROM:-0400
TZOFFSETTO:-0500
TZNAME:EST
DTSTART:20261101T060000
END:STANDARD
END:VTIMEZONE
BEGIN:VEVENT
DTSTART;TZID=America/Toronto:20250121T170000
DTEND;TZID=America/Toronto:20250121T190000
DTSTAMP:20260422T070606
CREATED:20250113T180919Z
LAST-MODIFIED:20250113T180920Z
UID:10000265-1737478800-1737486000@chestnut.utoronto.ca
SUMMARY:Wellness Pop-Up Table
DESCRIPTION:Join the Community Wellness Coordinators for their weekly wellness-oriented tabling sessions! Each week you get can involved with a fun activity in the lobby.
URL:https://chestnut.utoronto.ca/event/wellness-pop-up-table-8/
LOCATION:Lobby
ATTACH;FMTTYPE=image/png:https://chestnut.utoronto.ca/wp-content/uploads/stock-images-isabelle-1000-x-1000-67.png
END:VEVENT
BEGIN:VEVENT
DTSTART;TZID=America/Toronto:20250121T190000
DTEND;TZID=America/Toronto:20250121T200000
DTSTAMP:20260422T070606
CREATED:20250113T181824Z
LAST-MODIFIED:20250113T181824Z
UID:10000267-1737486000-1737489600@chestnut.utoronto.ca
SUMMARY:GEARS: Core 8 Engineering Students
DESCRIPTION:If you struggled last term and are in Core8 Engineering\, you should make GEARS a part of your routine this term. During GEARS successful upper-year students provide guidance on reviewing materials and studying for tests.
URL:https://chestnut.utoronto.ca/event/gears-core-8-engineering-students/
LOCATION:The Hearth
ATTACH;FMTTYPE=image/jpeg:https://chestnut.utoronto.ca/wp-content/uploads/study-session.jpg
END:VEVENT
END:VCALENDAR