BEGIN:VCALENDAR
VERSION:2.0
PRODID:-//Chestnut Residence at University of Toronto - ECPv6.15.20//NONSGML v1.0//EN
CALSCALE:GREGORIAN
METHOD:PUBLISH
X-WR-CALNAME:Chestnut Residence at University of Toronto
X-ORIGINAL-URL:https://chestnut.utoronto.ca
X-WR-CALDESC:Events for Chestnut Residence at University of Toronto
REFRESH-INTERVAL;VALUE=DURATION:PT1H
X-Robots-Tag:noindex
X-PUBLISHED-TTL:PT1H
BEGIN:VTIMEZONE
TZID:America/Toronto
BEGIN:DAYLIGHT
TZOFFSETFROM:-0500
TZOFFSETTO:-0400
TZNAME:EDT
DTSTART:20240310T070000
END:DAYLIGHT
BEGIN:STANDARD
TZOFFSETFROM:-0400
TZOFFSETTO:-0500
TZNAME:EST
DTSTART:20241103T060000
END:STANDARD
BEGIN:DAYLIGHT
TZOFFSETFROM:-0500
TZOFFSETTO:-0400
TZNAME:EDT
DTSTART:20250309T070000
END:DAYLIGHT
BEGIN:STANDARD
TZOFFSETFROM:-0400
TZOFFSETTO:-0500
TZNAME:EST
DTSTART:20251102T060000
END:STANDARD
BEGIN:DAYLIGHT
TZOFFSETFROM:-0500
TZOFFSETTO:-0400
TZNAME:EDT
DTSTART:20260308T070000
END:DAYLIGHT
BEGIN:STANDARD
TZOFFSETFROM:-0400
TZOFFSETTO:-0500
TZNAME:EST
DTSTART:20261101T060000
END:STANDARD
END:VTIMEZONE
BEGIN:VEVENT
DTSTART;TZID=America/Toronto:20250312T190000
DTEND;TZID=America/Toronto:20250312T210000
DTSTAMP:20260420T023919
CREATED:20250219T181310Z
LAST-MODIFIED:20250228T162209Z
UID:10000292-1741806000-1741813200@chestnut.utoronto.ca
SUMMARY:Winter Wellness Day: For This Year and Next
DESCRIPTION:This event will help you live and feel well this year and next!  \n\n\n\nWant to de-stress from midterms? What is better than hanging out with safari animals like the sugar glider and other exciting birds and reptiles! Upper year students will also be there to provide you with easy-to-implement study tips to give you the academic edge. This event will also help you be well next year!  \n\n\n\nHart House and off-campus housing mentors will be there to help you with house hunting\, tell you how to get a free lunch on campus\, and show you all the community that awaits at Hart House if you are living on your own next year.
URL:https://chestnut.utoronto.ca/event/winter-wellness-day-for-this-year-and-next/
LOCATION:The Hearth
ATTACH;FMTTYPE=image/png:https://chestnut.utoronto.ca/wp-content/uploads/stock-images-isabelle-1000-x-1000-18.png
END:VEVENT
END:VCALENDAR