BEGIN:VCALENDAR
VERSION:2.0
PRODID:-//Chestnut Residence at University of Toronto - ECPv6.15.20//NONSGML v1.0//EN
CALSCALE:GREGORIAN
METHOD:PUBLISH
X-WR-CALNAME:Chestnut Residence at University of Toronto
X-ORIGINAL-URL:https://chestnut.utoronto.ca
X-WR-CALDESC:Events for Chestnut Residence at University of Toronto
REFRESH-INTERVAL;VALUE=DURATION:PT1H
X-Robots-Tag:noindex
X-PUBLISHED-TTL:PT1H
BEGIN:VTIMEZONE
TZID:America/Toronto
BEGIN:DAYLIGHT
TZOFFSETFROM:-0500
TZOFFSETTO:-0400
TZNAME:EDT
DTSTART:20220313T070000
END:DAYLIGHT
BEGIN:STANDARD
TZOFFSETFROM:-0400
TZOFFSETTO:-0500
TZNAME:EST
DTSTART:20221106T060000
END:STANDARD
BEGIN:DAYLIGHT
TZOFFSETFROM:-0500
TZOFFSETTO:-0400
TZNAME:EDT
DTSTART:20230312T070000
END:DAYLIGHT
BEGIN:STANDARD
TZOFFSETFROM:-0400
TZOFFSETTO:-0500
TZNAME:EST
DTSTART:20231105T060000
END:STANDARD
BEGIN:DAYLIGHT
TZOFFSETFROM:-0500
TZOFFSETTO:-0400
TZNAME:EDT
DTSTART:20240310T070000
END:DAYLIGHT
BEGIN:STANDARD
TZOFFSETFROM:-0400
TZOFFSETTO:-0500
TZNAME:EST
DTSTART:20241103T060000
END:STANDARD
END:VTIMEZONE
BEGIN:VEVENT
DTSTART;TZID=America/Toronto:20230119T183000
DTEND;TZID=America/Toronto:20230119T200000
DTSTAMP:20260422T135240
CREATED:20230105T171224Z
LAST-MODIFIED:20230112T165626Z
UID:10000016-1674153000-1674158400@chestnut.utoronto.ca
SUMMARY:Dinner with Your Prof
DESCRIPTION:6:30 PM – 8:00 PM\nChestnut Residence Dining Hall*\, 89 Chestnut St.\, Main Floor\nGrab dinner from the Chestnut Residence Dining Hall and join us for a unique opportunity to share a meal with Engineering faculty members and enhance your academic experience. \nSpecial Guests: \n\nDean Chris Yip\, Dean of the Faculty of Applied Science & Engineering\nAssistant Dean Sterling\, Director of Diversity\, Inclusion\, and Professionalism at the Faculty of Applied Science and Engineering; Marisa Sterling is also the President of Professional Engineers Ontario – the first woman in the role! This dinner is an especially good opportunity for any women and genderqueer folks in Engineering.\nProf. Chirag Variawa\, Instructor of APS100 and the Chestnut Faculty in Residence\n\nNo registration is required. All students (including non-engineering students) are welcome. \nThis event is hosted by the Chestnut Residence Life Office and Prof. Chirag Variawa\, Instructor of APS100 and the Chestnut Faculty in Residence\n*Look for the table with the green tablecloth.
URL:https://chestnut.utoronto.ca/event/dinner-with-your-prof-2/
CATEGORIES:Chestnut Residence,Residence Life Office Events
ATTACH;FMTTYPE=image/png:https://chestnut.utoronto.ca/wp-content/uploads/DWYP-Jan-2023.png
END:VEVENT
BEGIN:VEVENT
DTSTART;TZID=America/Toronto:20230122T143000
DTEND;TZID=America/Toronto:20230122T160000
DTSTAMP:20260422T135240
CREATED:20230110T155012Z
LAST-MODIFIED:20230110T174054Z
UID:10000015-1674397800-1674403200@chestnut.utoronto.ca
SUMMARY:Arts & Science Social
DESCRIPTION:January 22 @ 2:30 PM \nJoin upper-year Arts and Science students for a scavenger hunt with a chance to win $50 worth of prizes from the U of T Bookstore\, a pizza party\, board games\, and lots of opportunities to get to know people in your area of study. \nWhether you want to reconnect with friends you have\, or come alone and make new ones\, we promise plenty of fun and food to share. \nNO REGISTRATION NECESSARY. This event is geared towards Arts and Science students\, however\, all students are welcome to attend.
URL:https://chestnut.utoronto.ca/event/arts-science-social/
CATEGORIES:Chestnut Residence
ATTACH;FMTTYPE=image/png:https://chestnut.utoronto.ca/wp-content/uploads/Arts-Science-Social-January-22-2023.png
END:VEVENT
BEGIN:VEVENT
DTSTART;TZID=America/Toronto:20230131T183000
DTEND;TZID=America/Toronto:20230424T200000
DTSTAMP:20260422T135240
CREATED:20230126T191457Z
LAST-MODIFIED:20230314T134750Z
UID:10000013-1675189800-1682366400@chestnut.utoronto.ca
SUMMARY:Study Smart: Arts & Science Study Sessions
DESCRIPTION:Mondays @ 6:30 – 8:00 PM \nAre you an Arts and Science student? Do you want to ace your courses this term? These weekly sessions help you set aside time for focused studying with tips to make it more effective and community to make you more accountable. The academic mentors can also offer guidance on topics such as overcoming writer’s block\, best practices for team projects\, and more! Awesome A-promoting snacks will be available at every session. ​\nLOCATION: 27th floor Lookout Lounge (look for the big academic mentor study session sign at one of the shared tables by the window!) \nSessions will be held weekly until April 24\, 2023\, however\, there will be no study session running February 20th during Reading Week.
URL:https://chestnut.utoronto.ca/event/study-smart-arts-science-study-sessions/
CATEGORIES:Chestnut Residence
ATTACH;FMTTYPE=image/png:https://chestnut.utoronto.ca/wp-content/uploads/Study-Sessions.png
END:VEVENT
END:VCALENDAR