BEGIN:VCALENDAR
VERSION:2.0
PRODID:-//Chestnut Residence at University of Toronto - ECPv6.15.20//NONSGML v1.0//EN
CALSCALE:GREGORIAN
METHOD:PUBLISH
X-WR-CALNAME:Chestnut Residence at University of Toronto
X-ORIGINAL-URL:https://chestnut.utoronto.ca
X-WR-CALDESC:Events for Chestnut Residence at University of Toronto
REFRESH-INTERVAL;VALUE=DURATION:PT1H
X-Robots-Tag:noindex
X-PUBLISHED-TTL:PT1H
BEGIN:VTIMEZONE
TZID:America/Toronto
BEGIN:DAYLIGHT
TZOFFSETFROM:-0500
TZOFFSETTO:-0400
TZNAME:EDT
DTSTART:20230312T070000
END:DAYLIGHT
BEGIN:STANDARD
TZOFFSETFROM:-0400
TZOFFSETTO:-0500
TZNAME:EST
DTSTART:20231105T060000
END:STANDARD
BEGIN:DAYLIGHT
TZOFFSETFROM:-0500
TZOFFSETTO:-0400
TZNAME:EDT
DTSTART:20240310T070000
END:DAYLIGHT
BEGIN:STANDARD
TZOFFSETFROM:-0400
TZOFFSETTO:-0500
TZNAME:EST
DTSTART:20241103T060000
END:STANDARD
BEGIN:DAYLIGHT
TZOFFSETFROM:-0500
TZOFFSETTO:-0400
TZNAME:EDT
DTSTART:20250309T070000
END:DAYLIGHT
BEGIN:STANDARD
TZOFFSETFROM:-0400
TZOFFSETTO:-0500
TZNAME:EST
DTSTART:20251102T060000
END:STANDARD
END:VTIMEZONE
BEGIN:VEVENT
DTSTART;TZID=America/Toronto:20240901T190000
DTEND;TZID=America/Toronto:20240901T210000
DTSTAMP:20260420T183747
CREATED:20240814T142426Z
LAST-MODIFIED:20240828T132723Z
UID:10000138-1725217200-1725224400@chestnut.utoronto.ca
SUMMARY:Chestnut Carnival!
DESCRIPTION:It’s time for the Chestnut Carnival! Drop in anytime from 7-9pm:\n\nOn the 27th floor:\nCotton candy! Snow cones! Join us and your neighbours for treats\, to test your hand at carnival games\, and to snap a picture at the photo booth.\n\nOn the 28th floor:\nFor those who prefer quieter events\, grab some cotton candy or a snow cone at the carnival and then learn how to fold carnival animals. Instructions and supplies all provided.
URL:https://chestnut.utoronto.ca/event/chestnut-carnival/
LOCATION:27th and 28th floor
END:VEVENT
BEGIN:VEVENT
DTSTART;TZID=America/Toronto:20240929T160000
DTEND;TZID=America/Toronto:20240929T180000
DTSTAMP:20260420T183747
CREATED:20240917T182348Z
LAST-MODIFIED:20240917T182348Z
UID:10000206-1727625600-1727632800@chestnut.utoronto.ca
SUMMARY:Arts&Science+ Karaoke and Board Games
DESCRIPTION:Join Arts & Science\, Music\, Kin\, and Daniels students for a fun afternoon of singing\, strategy and snacks!  \n\n\n\nThis is a great way to meet other non-engineering students at Chestnut.
URL:https://chestnut.utoronto.ca/event/artsscience-karaoke-and-board-games/
LOCATION:Urban Lounge
ATTACH;FMTTYPE=image/png:https://chestnut.utoronto.ca/wp-content/uploads/karaoke.png
END:VEVENT
END:VCALENDAR