BEGIN:VCALENDAR
VERSION:2.0
PRODID:-//Chestnut Residence at University of Toronto - ECPv6.15.20//NONSGML v1.0//EN
CALSCALE:GREGORIAN
METHOD:PUBLISH
X-ORIGINAL-URL:https://chestnut.utoronto.ca
X-WR-CALDESC:Events for Chestnut Residence at University of Toronto
REFRESH-INTERVAL;VALUE=DURATION:PT1H
X-Robots-Tag:noindex
X-PUBLISHED-TTL:PT1H
BEGIN:VTIMEZONE
TZID:America/Toronto
BEGIN:DAYLIGHT
TZOFFSETFROM:-0500
TZOFFSETTO:-0400
TZNAME:EDT
DTSTART:20230312T070000
END:DAYLIGHT
BEGIN:STANDARD
TZOFFSETFROM:-0400
TZOFFSETTO:-0500
TZNAME:EST
DTSTART:20231105T060000
END:STANDARD
BEGIN:DAYLIGHT
TZOFFSETFROM:-0500
TZOFFSETTO:-0400
TZNAME:EDT
DTSTART:20240310T070000
END:DAYLIGHT
BEGIN:STANDARD
TZOFFSETFROM:-0400
TZOFFSETTO:-0500
TZNAME:EST
DTSTART:20241103T060000
END:STANDARD
BEGIN:DAYLIGHT
TZOFFSETFROM:-0500
TZOFFSETTO:-0400
TZNAME:EDT
DTSTART:20250309T070000
END:DAYLIGHT
BEGIN:STANDARD
TZOFFSETFROM:-0400
TZOFFSETTO:-0500
TZNAME:EST
DTSTART:20251102T060000
END:STANDARD
END:VTIMEZONE
BEGIN:VEVENT
DTSTART;TZID=America/Toronto:20241105T190000
DTEND;TZID=America/Toronto:20241105T200000
DTSTAMP:20260422T094226
CREATED:20241008T200301Z
LAST-MODIFIED:20241008T200301Z
UID:10000225-1730833200-1730836800@chestnut.utoronto.ca
SUMMARY:GEARS: Engineering First Year Support
DESCRIPTION:Bring your core8 questions! \n\n\n\nEvery week upper-year engineering student will provide tailored support for first year students in core8 courses\, focusing on problem-solving and critical thinking.  \n\n\n\nOther upper year engineering students will be there to share insider tips on topics such as efficient study techniques\, reducing procrastination\, and time-management.
URL:https://chestnut.utoronto.ca/event/gears-engineering-first-year-support-6/
LOCATION:The Hearth
ATTACH;FMTTYPE=image/jpeg:https://chestnut.utoronto.ca/wp-content/uploads/study-session.jpg
END:VEVENT
BEGIN:VEVENT
DTSTART;TZID=America/Toronto:20241108T170000
DTEND;TZID=America/Toronto:20241108T190000
DTSTAMP:20260422T094226
CREATED:20241104T162254Z
LAST-MODIFIED:20241104T162254Z
UID:10000242-1731085200-1731092400@chestnut.utoronto.ca
SUMMARY:Learn Your Libraries
DESCRIPTION:Pop by on your way to dinner to learn about all the libraries at UofT from upper-year Arts and Science students.  \n\n\n\nFind you new favourite spot to study for finals!
URL:https://chestnut.utoronto.ca/event/learn-your-libraries/
LOCATION:Lobby
ATTACH;FMTTYPE=image/png:https://chestnut.utoronto.ca/wp-content/uploads/stock-images-isabelle-300-x-300-px-23.png
END:VEVENT
BEGIN:VEVENT
DTSTART;TZID=America/Toronto:20241110T180000
DTEND;TZID=America/Toronto:20241110T200000
DTSTAMP:20260422T094226
CREATED:20241024T181057Z
LAST-MODIFIED:20241024T181057Z
UID:10000239-1731261600-1731268800@chestnut.utoronto.ca
SUMMARY:Paper Airplane Contest
DESCRIPTION:Team up with friends to make the BEST paper airplane for a chance to win prizes!
URL:https://chestnut.utoronto.ca/event/paper-airplane-contest/
LOCATION:Urban Lounge
ATTACH;FMTTYPE=image/png:https://chestnut.utoronto.ca/wp-content/uploads/stock-images-isabelle-300-x-300-px-13.png
END:VEVENT
BEGIN:VEVENT
DTSTART;TZID=America/Toronto:20241110T190000
DTEND;TZID=America/Toronto:20241110T203000
DTSTAMP:20260422T094226
CREATED:20241104T161258Z
LAST-MODIFIED:20241104T161258Z
UID:10000240-1731265200-1731270600@chestnut.utoronto.ca
SUMMARY:Trivia Night & Small Chops
DESCRIPTION:Nigerian small chops are on the menu!  \n\n\n\nJoin us for a night of food\, up to 40$ in prizes for the winning team for our Black History and Culture Trivia Night.
URL:https://chestnut.utoronto.ca/event/trivia-night-small-chops/
LOCATION:The Hearth
ATTACH;FMTTYPE=image/png:https://chestnut.utoronto.ca/wp-content/uploads/stock-images-isabelle-300-x-300-px-21.png
END:VEVENT
BEGIN:VEVENT
DTSTART;TZID=America/Toronto:20241112T190000
DTEND;TZID=America/Toronto:20241112T200000
DTSTAMP:20260422T094226
CREATED:20241008T200410Z
LAST-MODIFIED:20241008T200411Z
UID:10000226-1731438000-1731441600@chestnut.utoronto.ca
SUMMARY:GEARS: Engineering First Year Support
DESCRIPTION:Bring your core8 questions! \n\n\n\nEvery week upper-year engineering student will provide tailored support for first year students in core8 courses\, focusing on problem-solving and critical thinking.  \n\n\n\nOther upper year engineering students will be there to share insider tips on topics such as efficient study techniques\, reducing procrastination\, and time-management.
URL:https://chestnut.utoronto.ca/event/gears-engineering-first-year-support-7/
LOCATION:The Hearth
ATTACH;FMTTYPE=image/jpeg:https://chestnut.utoronto.ca/wp-content/uploads/study-session.jpg
END:VEVENT
BEGIN:VEVENT
DTSTART;TZID=America/Toronto:20241113T183000
DTEND;TZID=America/Toronto:20241113T203000
DTSTAMP:20260422T094226
CREATED:20241024T175356Z
LAST-MODIFIED:20241106T202826Z
UID:10000236-1731522600-1731529800@chestnut.utoronto.ca
SUMMARY:Dinner with Your Prof: Engineering Edition
DESCRIPTION:Join us for Chestnut’s famous Dinner With Your Professor event for a chance to chat with your professors over a meal and build your professional network.  \n\n\n\nSpecial Guests \n\n\n\nProfessor Dinushi Munasinghe (MAT188)Professor Shai Cohen (APS163\, MAT186\, MAT188)Professor Philip Asare (APS111)Professor Jennifer Lofgreen (EngSci)Professor Roger Carrick (EngSci)Professor Ben Kinsella (APS111) \n\n\n\n \n\n\n\nAll students are welcome.  
URL:https://chestnut.utoronto.ca/event/dinner-with-your-prof-engineering-edition/
LOCATION:Chestnut Dining Hall
ATTACH;FMTTYPE=image/png:https://chestnut.utoronto.ca/wp-content/uploads/stock-images-isabelle-300-x-300-px-10.png
END:VEVENT
BEGIN:VEVENT
DTSTART;TZID=America/Toronto:20241114T180000
DTEND;TZID=America/Toronto:20241114T200000
DTSTAMP:20260422T094226
CREATED:20241104T185830Z
LAST-MODIFIED:20241104T185831Z
UID:10000244-1731607200-1731614400@chestnut.utoronto.ca
SUMMARY:Fall Wellness Day
DESCRIPTION:Join us to take a break and go on a safari adventure! Meet new animal friends and connect with your residence council and Community Wellness Coordinators!  \n\n\n\nSnacks to be provided. 
URL:https://chestnut.utoronto.ca/event/fall-wellness-day/
LOCATION:The Hearth
ATTACH;FMTTYPE=image/png:https://chestnut.utoronto.ca/wp-content/uploads/wellness-day.png
END:VEVENT
BEGIN:VEVENT
DTSTART;TZID=America/Toronto:20241115T000000
DTEND;TZID=America/Toronto:20241115T235959
DTSTAMP:20260422T094226
CREATED:20241104T163005Z
LAST-MODIFIED:20241104T163006Z
UID:10000243-1731628800-1731715199@chestnut.utoronto.ca
SUMMARY:Final Day to Register with Accessibility Services For Exam Accommodations
DESCRIPTION:Friday\, November 15 is the last day you can register with Accessibility Services for your exam accommodations!
URL:https://chestnut.utoronto.ca/event/final-day-to-register-with-accessibility-services-for-exam-accommodations/
LOCATION:Online
ATTACH;FMTTYPE=image/png:https://chestnut.utoronto.ca/wp-content/uploads/stock-images-isabelle-300-x-300-px-24.png
END:VEVENT
BEGIN:VEVENT
DTSTART;TZID=America/Toronto:20241119T190000
DTEND;TZID=America/Toronto:20241119T200000
DTSTAMP:20260422T094226
CREATED:20241008T200435Z
LAST-MODIFIED:20241008T200435Z
UID:10000227-1732042800-1732046400@chestnut.utoronto.ca
SUMMARY:GEARS: Engineering First Year Support
DESCRIPTION:Bring your core8 questions! \n\n\n\nEvery week upper-year engineering student will provide tailored support for first year students in core8 courses\, focusing on problem-solving and critical thinking.  \n\n\n\nOther upper year engineering students will be there to share insider tips on topics such as efficient study techniques\, reducing procrastination\, and time-management.
URL:https://chestnut.utoronto.ca/event/gears-engineering-first-year-support-8/
LOCATION:The Hearth
ATTACH;FMTTYPE=image/jpeg:https://chestnut.utoronto.ca/wp-content/uploads/study-session.jpg
END:VEVENT
BEGIN:VEVENT
DTSTART;TZID=America/Toronto:20241119T190000
DTEND;TZID=America/Toronto:20241119T210000
DTSTAMP:20260422T094226
CREATED:20241104T161805Z
LAST-MODIFIED:20241104T161805Z
UID:10000241-1732042800-1732050000@chestnut.utoronto.ca
SUMMARY:Arts and Science+ Crafting Social
DESCRIPTION:Arts and Science students\, you aren’t alone at Chestnut! \n\n\n\nJoin other Arts and Science students to connect and enjoy snacks while working on something fun and artsy. \n\n\n\nYour art may be featured on a future Chestnut sign! Many supplies will be provided\, but feel free to bring your own project too.
URL:https://chestnut.utoronto.ca/event/arts-and-science-crafting-social/
LOCATION:Urban Lounge
ATTACH;FMTTYPE=image/png:https://chestnut.utoronto.ca/wp-content/uploads/stock-images-isabelle-300-x-300-px-22.png
END:VEVENT
BEGIN:VEVENT
DTSTART;TZID=America/Toronto:20241126T190000
DTEND;TZID=America/Toronto:20241126T200000
DTSTAMP:20260422T094226
CREATED:20241008T200554Z
LAST-MODIFIED:20241008T200555Z
UID:10000228-1732647600-1732651200@chestnut.utoronto.ca
SUMMARY:GEARS: Engineering First Year Support
DESCRIPTION:Bring your core8 questions! \n\n\n\nEvery week upper-year engineering student will provide tailored support for first year students in core8 courses\, focusing on problem-solving and critical thinking.  \n\n\n\nOther upper year engineering students will be there to share insider tips on topics such as efficient study techniques\, reducing procrastination\, and time-management.
URL:https://chestnut.utoronto.ca/event/gears-engineering-first-year-support-9/
LOCATION:The Hearth
ATTACH;FMTTYPE=image/jpeg:https://chestnut.utoronto.ca/wp-content/uploads/study-session.jpg
END:VEVENT
BEGIN:VEVENT
DTSTART;TZID=America/Toronto:20241129T170000
DTEND;TZID=America/Toronto:20241129T193000
DTSTAMP:20260422T094226
CREATED:20241111T171531Z
LAST-MODIFIED:20241111T171532Z
UID:10000248-1732899600-1732908600@chestnut.utoronto.ca
SUMMARY:Writers Block Tips and Tricks
DESCRIPTION:Humanities and social science students\, do you have writer’s block? Find out how to beat it with quick tips.
URL:https://chestnut.utoronto.ca/event/writers-block-tips-and-tricks/
LOCATION:Lobby
ATTACH;FMTTYPE=image/png:https://chestnut.utoronto.ca/wp-content/uploads/stock-images-isabelle-300-x-300-px-27.png
END:VEVENT
BEGIN:VEVENT
DTSTART;TZID=America/Toronto:20241129T190000
DTEND;TZID=America/Toronto:20241129T210000
DTSTAMP:20260422T094226
CREATED:20241111T174157Z
LAST-MODIFIED:20241119T141315Z
UID:10000247-1732906800-1732914000@chestnut.utoronto.ca
SUMMARY:The Great Chestnut Gingerbread House Competition
DESCRIPTION:Chestnut – it’s Bake Off time! Join us for a festive evening of gingerbread house decorating.  \n\n\n\nCome with a team of 3(ish) or come alone and we’ll set you up for an epic competition and festively fun evening before diving into exams. \n\n\n\nAll materials provided and prizes are up for grabs for the winning team!
URL:https://chestnut.utoronto.ca/event/the-great-chestnut-gingerbread-house-competition-2/
LOCATION:Urban Lounge
ATTACH;FMTTYPE=image/png:https://chestnut.utoronto.ca/wp-content/uploads/stock-images-isabelle-300-x-300-px-29.png
END:VEVENT
BEGIN:VEVENT
DTSTART;TZID=America/Toronto:20241130T140000
DTEND;TZID=America/Toronto:20241130T151500
DTSTAMP:20260422T094226
CREATED:20241111T165021Z
LAST-MODIFIED:20241111T165021Z
UID:10000245-1732975200-1732979700@chestnut.utoronto.ca
SUMMARY:Therapy Dogs
DESCRIPTION:Had a ruff week? Come down to the Urban Lounge for some puppy-love…it’s just what the dog-tor ordered. \n\n\n\nMark your calendars to join us for relaxing afternoon of wagging tails and belly rubs! Until then\, stay PAW-sitive!
URL:https://chestnut.utoronto.ca/event/therapy-dogs-3/
LOCATION:Urban Lounge
ATTACH;FMTTYPE=image/png:https://chestnut.utoronto.ca/wp-content/uploads/stock-images-isabelle-300-x-300-px-25.png
END:VEVENT
END:VCALENDAR