BEGIN:VCALENDAR
VERSION:2.0
PRODID:-//Chestnut Residence at University of Toronto - ECPv6.15.20//NONSGML v1.0//EN
CALSCALE:GREGORIAN
METHOD:PUBLISH
X-ORIGINAL-URL:https://chestnut.utoronto.ca
X-WR-CALDESC:Events for Chestnut Residence at University of Toronto
REFRESH-INTERVAL;VALUE=DURATION:PT1H
X-Robots-Tag:noindex
X-PUBLISHED-TTL:PT1H
BEGIN:VTIMEZONE
TZID:America/Toronto
BEGIN:DAYLIGHT
TZOFFSETFROM:-0500
TZOFFSETTO:-0400
TZNAME:EDT
DTSTART:20240310T070000
END:DAYLIGHT
BEGIN:STANDARD
TZOFFSETFROM:-0400
TZOFFSETTO:-0500
TZNAME:EST
DTSTART:20241103T060000
END:STANDARD
BEGIN:DAYLIGHT
TZOFFSETFROM:-0500
TZOFFSETTO:-0400
TZNAME:EDT
DTSTART:20250309T070000
END:DAYLIGHT
BEGIN:STANDARD
TZOFFSETFROM:-0400
TZOFFSETTO:-0500
TZNAME:EST
DTSTART:20251102T060000
END:STANDARD
BEGIN:DAYLIGHT
TZOFFSETFROM:-0500
TZOFFSETTO:-0400
TZNAME:EDT
DTSTART:20260308T070000
END:DAYLIGHT
BEGIN:STANDARD
TZOFFSETFROM:-0400
TZOFFSETTO:-0500
TZNAME:EST
DTSTART:20261101T060000
END:STANDARD
END:VTIMEZONE
BEGIN:VEVENT
DTSTART;TZID=America/Toronto:20250203T170000
DTEND;TZID=America/Toronto:20250203T190000
DTSTAMP:20260422T155357
CREATED:20250129T183306Z
LAST-MODIFIED:20250129T183306Z
UID:10000283-1738602000-1738609200@chestnut.utoronto.ca
SUMMARY:Wellness Pop-Up Table
DESCRIPTION:Join the Community Wellness Coordinators for their weekly wellness-oriented tabling sessions! This week\, unwind with a fun game of wellness jenga for a chance to win some snacks!
URL:https://chestnut.utoronto.ca/event/wellness-pop-up-table-9/
LOCATION:Lobby
ATTACH;FMTTYPE=image/png:https://chestnut.utoronto.ca/wp-content/uploads/stock-images-isabelle-1000-x-1000-67.png
END:VEVENT
BEGIN:VEVENT
DTSTART;TZID=America/Toronto:20250204T190000
DTEND;TZID=America/Toronto:20250204T200000
DTSTAMP:20260422T155357
CREATED:20250120T182814Z
LAST-MODIFIED:20250120T182815Z
UID:10000272-1738695600-1738699200@chestnut.utoronto.ca
SUMMARY:GEARS: Engineering First Year Support
DESCRIPTION:Bring your core8 questions! \n\n\n\nEvery week upper-year engineering student will provide tailored support for first year students in core8 courses\, focusing on problem-solving and critical thinking.  \n\n\n\nOther upper year engineering students will be there to share insider tips on topics such as efficient study techniques\, reducing procrastination\, and time-management.
URL:https://chestnut.utoronto.ca/event/gears-engineering-first-year-support-12/
LOCATION:The Hearth
ATTACH;FMTTYPE=image/jpeg:https://chestnut.utoronto.ca/wp-content/uploads/study-session.jpg
END:VEVENT
BEGIN:VEVENT
DTSTART;TZID=America/Toronto:20250206T190000
DTEND;TZID=America/Toronto:20250206T190000
DTSTAMP:20260422T155357
CREATED:20250121T154125Z
LAST-MODIFIED:20250131T192308Z
UID:10000281-1738868400-1738868400@chestnut.utoronto.ca
SUMMARY:Chestnut Skates at Nathan Phillips Square
DESCRIPTION:Join Dons and fellow students to skate at the iconic Nathan Phillip Square!  \n\n\n\nEveryone will meet in the lobby on Thursday\, February 6th at 7pm to head over to the rink together.  \n\n\n\nDons will cover skate rentals (and helmets if wanted) for the first 15 people who register. They will email you to confirmed your funded spot.  \n\n\n\nAny one else who registers is welcome to join\, but you will need to cover the cost of the skate rentals ($15).  \n\n\n\n\nSign up here
URL:https://chestnut.utoronto.ca/event/chestnut-skates-at-nathan-phillips-square/
LOCATION:Lobby
ATTACH;FMTTYPE=image/png:https://chestnut.utoronto.ca/wp-content/uploads/iceskatingweb.png
END:VEVENT
BEGIN:VEVENT
DTSTART;TZID=America/Toronto:20250211T170000
DTEND;TZID=America/Toronto:20250211T190000
DTSTAMP:20260422T155357
CREATED:20250129T183508Z
LAST-MODIFIED:20250129T183508Z
UID:10000284-1739293200-1739300400@chestnut.utoronto.ca
SUMMARY:Wellness Pop-Up Table
DESCRIPTION:Join the Community Wellness Coordinators for their weekly wellness-oriented tabling sessions! This week\, create and decorate your own candygram kit to keep or give away to someone special!
URL:https://chestnut.utoronto.ca/event/wellness-pop-up-table-10/
LOCATION:Lobby
ATTACH;FMTTYPE=image/png:https://chestnut.utoronto.ca/wp-content/uploads/stock-images-isabelle-1000-x-1000-67.png
END:VEVENT
BEGIN:VEVENT
DTSTART;TZID=America/Toronto:20250211T190000
DTEND;TZID=America/Toronto:20250211T200000
DTSTAMP:20260422T155357
CREATED:20250120T182848Z
LAST-MODIFIED:20250120T182849Z
UID:10000273-1739300400-1739304000@chestnut.utoronto.ca
SUMMARY:GEARS: Engineering First Year Support
DESCRIPTION:Bring your core8 questions! \n\n\n\nEvery week upper-year engineering student will provide tailored support for first year students in core8 courses\, focusing on problem-solving and critical thinking.  \n\n\n\nOther upper year engineering students will be there to share insider tips on topics such as efficient study techniques\, reducing procrastination\, and time-management.
URL:https://chestnut.utoronto.ca/event/gears-engineering-first-year-support-13/
LOCATION:The Hearth
ATTACH;FMTTYPE=image/jpeg:https://chestnut.utoronto.ca/wp-content/uploads/study-session.jpg
END:VEVENT
BEGIN:VEVENT
DTSTART;TZID=America/Toronto:20250212T181500
DTEND;TZID=America/Toronto:20250212T181500
DTSTAMP:20260422T155357
CREATED:20250131T170330Z
LAST-MODIFIED:20250131T170331Z
UID:10000287-1739384100-1739384100@chestnut.utoronto.ca
SUMMARY:Black Culture: Hip Hop and Contemporary Art Exhibition at the AGO
DESCRIPTION:Join us for a special guided tour of the Black Culture: Hip Hop and Contemporary Art Exhibition at the AGO! Discover powerful stories\, art\, and perspectives celebrating Black culture and creativity. \n\n\n\nThe event is completely free of charge\, so feel free to bring a friend along.  \n\n\n\nWe’ll meet in the Chestnut Residence lobby at 6:15pm and head to the AGO together. Don’t miss this chance to connect\, learn\, and experience the richness of Black heritage through art.  \n\n\n\nEach participant will be able to enjoy a complimentary drink from the AGO Espresso Bar. Registration required \n\n\n\n\nregister now
URL:https://chestnut.utoronto.ca/event/black-culture-hip-hop-and-contemporary-art-exhibition-at-the-ago/
ATTACH;FMTTYPE=image/png:https://chestnut.utoronto.ca/wp-content/uploads/ago.png
END:VEVENT
BEGIN:VEVENT
DTSTART;TZID=America/Toronto:20250213T180000
DTEND;TZID=America/Toronto:20250213T200000
DTSTAMP:20260422T155357
CREATED:20250129T183111Z
LAST-MODIFIED:20250129T183111Z
UID:10000282-1739469600-1739476800@chestnut.utoronto.ca
SUMMARY:Under the Stars: Mindful Moments
DESCRIPTION:Take a moment to relax\, unwind\, and lose yourself in an immersive experience under the stars that nurtures both body and mind.
URL:https://chestnut.utoronto.ca/event/under-the-stars-mindful-moments/
LOCATION:The Hearth
ATTACH;FMTTYPE=image/png:https://chestnut.utoronto.ca/wp-content/uploads/stock-images-isabelle-1000-x-1000-97.png
END:VEVENT
BEGIN:VEVENT
DTSTART;TZID=America/Toronto:20250219T170000
DTEND;TZID=America/Toronto:20250219T190000
DTSTAMP:20260422T155357
CREATED:20250129T183805Z
LAST-MODIFIED:20250129T183816Z
UID:10000285-1739984400-1739991600@chestnut.utoronto.ca
SUMMARY:Wellness Pop-Up Table
DESCRIPTION:Join the Community Wellness Coordinators for their weekly wellness-oriented tabling sessions! This week\, design and formulate your own aromatherapy essential oil blend to take home!
URL:https://chestnut.utoronto.ca/event/wellness-pop-up-table-11/
LOCATION:Lobby
ATTACH;FMTTYPE=image/png:https://chestnut.utoronto.ca/wp-content/uploads/stock-images-isabelle-1000-x-1000-67.png
END:VEVENT
BEGIN:VEVENT
DTSTART;TZID=America/Toronto:20250219T200000
DTEND;TZID=America/Toronto:20250219T220000
DTSTAMP:20260422T155357
CREATED:20250203T180918Z
LAST-MODIFIED:20250203T180918Z
UID:10000289-1739995200-1740002400@chestnut.utoronto.ca
SUMMARY:ArtSci+ Movie Night: Legally Blonde
DESCRIPTION:Are you in ArtSci and not sure what you want to do with your life? Maybe you’ll be a lawyer\, maybe not! Either way\, you should join upper year ArtSci students in watching the iconic Legally Blonde over reading week.
URL:https://chestnut.utoronto.ca/event/artsci-movie-night-legally-blonde/
LOCATION:Urban Lounge
ATTACH;FMTTYPE=image/png:https://chestnut.utoronto.ca/wp-content/uploads/stock-images-isabelle-1000-x-1000-98.png
END:VEVENT
BEGIN:VEVENT
DTSTART;TZID=America/Toronto:20250224T170000
DTEND;TZID=America/Toronto:20250224T190000
DTSTAMP:20260422T155357
CREATED:20250203T181446Z
LAST-MODIFIED:20250210T184024Z
UID:10000290-1740416400-1740423600@chestnut.utoronto.ca
SUMMARY:ArtSci Choosing a Major Information Session
DESCRIPTION:Are you in the Faculty of Arts and Science? Are you ready to declare your major? ArtSci upper years will be here to help you find all the information you need to make a decision.
URL:https://chestnut.utoronto.ca/event/artsci-choosing-a-major-information/
LOCATION:Lobby
ATTACH;FMTTYPE=image/png:https://chestnut.utoronto.ca/wp-content/uploads/stock-images-isabelle-1000-x-1000-99.png
END:VEVENT
BEGIN:VEVENT
DTSTART;TZID=America/Toronto:20250225T170000
DTEND;TZID=America/Toronto:20250225T190000
DTSTAMP:20260422T155357
CREATED:20250129T184056Z
LAST-MODIFIED:20250129T184057Z
UID:10000286-1740502800-1740510000@chestnut.utoronto.ca
SUMMARY:Wellness Pop-Up Table
DESCRIPTION:Join the Community Wellness Coordinators for their weekly wellness-oriented tabling sessions! This week\, challenge yourself with some wellness riddles!
URL:https://chestnut.utoronto.ca/event/wellness-pop-up-table-12/
LOCATION:Lobby
ATTACH;FMTTYPE=image/png:https://chestnut.utoronto.ca/wp-content/uploads/stock-images-isabelle-1000-x-1000-67.png
END:VEVENT
BEGIN:VEVENT
DTSTART;TZID=America/Toronto:20250225T190000
DTEND;TZID=America/Toronto:20250225T200000
DTSTAMP:20260422T155357
CREATED:20250120T183003Z
LAST-MODIFIED:20250120T183003Z
UID:10000275-1740510000-1740513600@chestnut.utoronto.ca
SUMMARY:GEARS: Engineering First Year Support
DESCRIPTION:Bring your core8 questions! \n\n\n\nEvery week upper-year engineering student will provide tailored support for first year students in core8 courses\, focusing on problem-solving and critical thinking.  \n\n\n\nOther upper year engineering students will be there to share insider tips on topics such as efficient study techniques\, reducing procrastination\, and time-management.
URL:https://chestnut.utoronto.ca/event/gears-engineering-first-year-support-15/
LOCATION:The Hearth
ATTACH;FMTTYPE=image/jpeg:https://chestnut.utoronto.ca/wp-content/uploads/study-session.jpg
END:VEVENT
END:VCALENDAR