BEGIN:VCALENDAR
VERSION:2.0
PRODID:-//Chestnut Residence at University of Toronto - ECPv6.15.20//NONSGML v1.0//EN
CALSCALE:GREGORIAN
METHOD:PUBLISH
X-WR-CALNAME:Chestnut Residence at University of Toronto
X-ORIGINAL-URL:https://chestnut.utoronto.ca
X-WR-CALDESC:Events for Chestnut Residence at University of Toronto
REFRESH-INTERVAL;VALUE=DURATION:PT1H
X-Robots-Tag:noindex
X-PUBLISHED-TTL:PT1H
BEGIN:VTIMEZONE
TZID:America/Toronto
BEGIN:DAYLIGHT
TZOFFSETFROM:-0500
TZOFFSETTO:-0400
TZNAME:EDT
DTSTART:20220313T070000
END:DAYLIGHT
BEGIN:STANDARD
TZOFFSETFROM:-0400
TZOFFSETTO:-0500
TZNAME:EST
DTSTART:20221106T060000
END:STANDARD
BEGIN:DAYLIGHT
TZOFFSETFROM:-0500
TZOFFSETTO:-0400
TZNAME:EDT
DTSTART:20230312T070000
END:DAYLIGHT
BEGIN:STANDARD
TZOFFSETFROM:-0400
TZOFFSETTO:-0500
TZNAME:EST
DTSTART:20231105T060000
END:STANDARD
BEGIN:DAYLIGHT
TZOFFSETFROM:-0500
TZOFFSETTO:-0400
TZNAME:EDT
DTSTART:20240310T070000
END:DAYLIGHT
BEGIN:STANDARD
TZOFFSETFROM:-0400
TZOFFSETTO:-0500
TZNAME:EST
DTSTART:20241103T060000
END:STANDARD
END:VTIMEZONE
BEGIN:VEVENT
DTSTART;TZID=America/Toronto:20230131T183000
DTEND;TZID=America/Toronto:20230424T200000
DTSTAMP:20260420T002415
CREATED:20230126T191457Z
LAST-MODIFIED:20230314T134750Z
UID:10000013-1675189800-1682366400@chestnut.utoronto.ca
SUMMARY:Study Smart: Arts & Science Study Sessions
DESCRIPTION:Mondays @ 6:30 – 8:00 PM \nAre you an Arts and Science student? Do you want to ace your courses this term? These weekly sessions help you set aside time for focused studying with tips to make it more effective and community to make you more accountable. The academic mentors can also offer guidance on topics such as overcoming writer’s block\, best practices for team projects\, and more! Awesome A-promoting snacks will be available at every session. ​\nLOCATION: 27th floor Lookout Lounge (look for the big academic mentor study session sign at one of the shared tables by the window!) \nSessions will be held weekly until April 24\, 2023\, however\, there will be no study session running February 20th during Reading Week.
URL:https://chestnut.utoronto.ca/event/study-smart-arts-science-study-sessions/
CATEGORIES:Chestnut Residence
ATTACH;FMTTYPE=image/png:https://chestnut.utoronto.ca/wp-content/uploads/Study-Sessions.png
END:VEVENT
BEGIN:VEVENT
DTSTART;TZID=America/Toronto:20230202T130000
DTEND;TZID=America/Toronto:20230202T160000
DTSTAMP:20260420T002415
CREATED:20230126T185952Z
LAST-MODIFIED:20230126T185952Z
UID:10000014-1675342800-1675353600@chestnut.utoronto.ca
SUMMARY:Health & Wellness Peer Support Service Pop-Up Booth
DESCRIPTION:February 2 @ 1:00 PM – 4:00 PM \nDrop by the Health & Wellness Peer Support Service (PSS) Pop-Up booth in the lobby to chat with any of our peer supporters\, grab some snacks\, and take home some special Health and Wellness merch! \nLearn more about the Peer Support Service.
URL:https://chestnut.utoronto.ca/event/health-wellness-peer-support-service-pop-up-booth/
ATTACH;FMTTYPE=image/png:https://chestnut.utoronto.ca/wp-content/uploads/HW-Peer-Support.png
END:VEVENT
END:VCALENDAR