BEGIN:VCALENDAR
VERSION:2.0
PRODID:-//Chestnut Residence at University of Toronto - ECPv6.15.20//NONSGML v1.0//EN
CALSCALE:GREGORIAN
METHOD:PUBLISH
X-ORIGINAL-URL:https://chestnut.utoronto.ca
X-WR-CALDESC:Events for Chestnut Residence at University of Toronto
REFRESH-INTERVAL;VALUE=DURATION:PT1H
X-Robots-Tag:noindex
X-PUBLISHED-TTL:PT1H
BEGIN:VTIMEZONE
TZID:America/Toronto
BEGIN:DAYLIGHT
TZOFFSETFROM:-0500
TZOFFSETTO:-0400
TZNAME:EDT
DTSTART:20220313T070000
END:DAYLIGHT
BEGIN:STANDARD
TZOFFSETFROM:-0400
TZOFFSETTO:-0500
TZNAME:EST
DTSTART:20221106T060000
END:STANDARD
BEGIN:DAYLIGHT
TZOFFSETFROM:-0500
TZOFFSETTO:-0400
TZNAME:EDT
DTSTART:20230312T070000
END:DAYLIGHT
BEGIN:STANDARD
TZOFFSETFROM:-0400
TZOFFSETTO:-0500
TZNAME:EST
DTSTART:20231105T060000
END:STANDARD
BEGIN:DAYLIGHT
TZOFFSETFROM:-0500
TZOFFSETTO:-0400
TZNAME:EDT
DTSTART:20240310T070000
END:DAYLIGHT
BEGIN:STANDARD
TZOFFSETFROM:-0400
TZOFFSETTO:-0500
TZNAME:EST
DTSTART:20241103T060000
END:STANDARD
END:VTIMEZONE
BEGIN:VEVENT
DTSTART;TZID=America/Toronto:20231002T183000
DTEND;TZID=America/Toronto:20231002T200000
DTSTAMP:20260422T015218
CREATED:20230928T174757Z
LAST-MODIFIED:20230928T174757Z
UID:10000028-1696271400-1696276800@chestnut.utoronto.ca
SUMMARY:Dinner With Engineering PEY Career Peer Mentors
DESCRIPTION:It’s never too early to start preparing for your engineering career! Learn what first year engineering students can do to get an edge. \nDrop in over dinner to chat with PEY Co-op Peer Coaches who will share ways to start building your experience now\, answer questions about PEY co-op\, and provide tips on how to build towards your dream job when you graduate.
URL:https://chestnut.utoronto.ca/event/dinner-with-engineering-pey-career-peer-mentors/
LOCATION:On Campus
ATTACH;FMTTYPE=image/png:https://chestnut.utoronto.ca/wp-content/uploads/SAMPLE.png
END:VEVENT
BEGIN:VEVENT
DTSTART;TZID=America/Toronto:20231005T183000
DTEND;TZID=America/Toronto:20231005T200000
DTSTAMP:20260422T015218
CREATED:20230928T175709Z
LAST-MODIFIED:20230928T175741Z
UID:10000029-1696530600-1696536000@chestnut.utoronto.ca
SUMMARY:Dinner With Your Prof
DESCRIPTION:Chat with your professors and expand your professional network over dinner. All students from all faculties are welcome!
URL:https://chestnut.utoronto.ca/event/dinner-with-your-prof-3/
END:VEVENT
END:VCALENDAR