BEGIN:VCALENDAR
VERSION:2.0
PRODID:-//Chestnut Residence at University of Toronto - ECPv6.15.20//NONSGML v1.0//EN
CALSCALE:GREGORIAN
METHOD:PUBLISH
X-WR-CALNAME:Chestnut Residence at University of Toronto
X-ORIGINAL-URL:https://chestnut.utoronto.ca
X-WR-CALDESC:Events for Chestnut Residence at University of Toronto
REFRESH-INTERVAL;VALUE=DURATION:PT1H
X-Robots-Tag:noindex
X-PUBLISHED-TTL:PT1H
BEGIN:VTIMEZONE
TZID:America/Toronto
BEGIN:DAYLIGHT
TZOFFSETFROM:-0500
TZOFFSETTO:-0400
TZNAME:EDT
DTSTART:20220313T070000
END:DAYLIGHT
BEGIN:STANDARD
TZOFFSETFROM:-0400
TZOFFSETTO:-0500
TZNAME:EST
DTSTART:20221106T060000
END:STANDARD
BEGIN:DAYLIGHT
TZOFFSETFROM:-0500
TZOFFSETTO:-0400
TZNAME:EDT
DTSTART:20230312T070000
END:DAYLIGHT
BEGIN:STANDARD
TZOFFSETFROM:-0400
TZOFFSETTO:-0500
TZNAME:EST
DTSTART:20231105T060000
END:STANDARD
BEGIN:DAYLIGHT
TZOFFSETFROM:-0500
TZOFFSETTO:-0400
TZNAME:EDT
DTSTART:20240310T070000
END:DAYLIGHT
BEGIN:STANDARD
TZOFFSETFROM:-0400
TZOFFSETTO:-0500
TZNAME:EST
DTSTART:20241103T060000
END:STANDARD
END:VTIMEZONE
BEGIN:VEVENT
DTSTART;TZID=America/Toronto:20231127T190000
DTEND;TZID=America/Toronto:20231127T203000
DTSTAMP:20260420T141755
CREATED:20231116T175417Z
LAST-MODIFIED:20231117T200857Z
UID:10000035-1701111600-1701117000@chestnut.utoronto.ca
SUMMARY:Crack the Code of Finals: Engineering Edition
DESCRIPTION:Engineering students\, don’t miss this exam prep session tailored exclusively for you. \nThe Engineering Learning Strategist will be here to share exam prep advice\, including how to write university level tests. This session will cover how to study\, when to study\, and how to take tests. \nIt will help you figure out how to prioritize the topics you need to cover\, how early you should start\, what you can do to organize and schedule in time for test prep while weekly course content continues\, and more. \nWhen and where:\nMonday\, 27th November\, 7 – 8:30pm\, Urban Lounge \n 
URL:https://chestnut.utoronto.ca/event/crack-the-code-of-finals-engineering-edition/
ATTACH;FMTTYPE=image/jpeg:https://chestnut.utoronto.ca/wp-content/uploads/Eng-learning-strategist-Nov-27.jpg
END:VEVENT
BEGIN:VEVENT
DTSTART;TZID=America/Toronto:20231128T200000
DTEND;TZID=America/Toronto:20231128T210000
DTSTAMP:20260420T141755
CREATED:20231116T180854Z
LAST-MODIFIED:20231116T180854Z
UID:10000039-1701201600-1701205200@chestnut.utoronto.ca
SUMMARY:Chestnut Gym Club
DESCRIPTION:Get ready to boost your fitness journey with the Chestnut Gym Club! \nWe are thrilled to invite you to our upcoming gym sessions tailored for both beginners and advanced enthusiasts. Whether you’re just starting out or looking to challenge your existing skills\, we’ve got you covered. \nBeginner Session: December 5th\, 8 – 9pm\nThese sessions are perfect for those who are new to the gym or looking to learn the basics. We’ll cover everything from proper form and technique to setting achievable fitness goals. \nAdvanced Session: November 28th\, 8 – 9pm\nFor our advanced members\, these sessions will focus on more challenging workouts and techniques\, helping you take your fitness to the next level. All sessions will be held in the Chestnut Residence Gym. Remember to bring your gym gear and water bottle. We’re looking forward to helping you achieve your fitness goals in a fun and supportive environment.
URL:https://chestnut.utoronto.ca/event/chestnut-gym-club-2/
ATTACH;FMTTYPE=image/png:https://chestnut.utoronto.ca/wp-content/uploads/Gym-Club.png
END:VEVENT
BEGIN:VEVENT
DTSTART;TZID=America/Toronto:20231129T170000
DTEND;TZID=America/Toronto:20231129T193000
DTSTAMP:20260420T141755
CREATED:20231116T172654Z
LAST-MODIFIED:20231116T180005Z
UID:10000034-1701277200-1701286200@chestnut.utoronto.ca
SUMMARY:Dinner with A&S Faculty and Upper Years: Exam Prep Edition
DESCRIPTION:A&S upper years and the Faculty in Residence will share stories and tips around exams and final essays curated just for you\, A&S students! \nThey will also have handouts on best practices for overcoming writer’s block and preparing for short answer and essay exams \nWhen and where:\nWednesday\, 29th November\, 5 – 7:30pm\, Dining Hall
URL:https://chestnut.utoronto.ca/event/dinner-with-as-faculty-and-upper-years-exam-prep-edition/
ATTACH;FMTTYPE=image/png:https://chestnut.utoronto.ca/wp-content/uploads/AS-dinner-with-exam-prep.png
END:VEVENT
BEGIN:VEVENT
DTSTART;TZID=America/Toronto:20231202T140000
DTEND;TZID=America/Toronto:20231202T153000
DTSTAMP:20260420T141755
CREATED:20231116T175901Z
LAST-MODIFIED:20231117T215504Z
UID:10000036-1701525600-1701531000@chestnut.utoronto.ca
SUMMARY:Therapy Dogs!
DESCRIPTION:Mark your calendars to meet our volunteer therapy dogs from Sunshine Therapy Dogs for a relaxing afternoon of wagging tails and belly rubs. We will also be providing snacks!\n\nUntil then\, stay PAW-sitive!\nWhen and where:\nSaturday\, 2nd December\, 2 – 3:30pm\, Urban Lounge
URL:https://chestnut.utoronto.ca/event/therapy-dogs/
ATTACH;FMTTYPE=image/png:https://chestnut.utoronto.ca/wp-content/uploads/Therapy-Dogs-Chatter.png
END:VEVENT
END:VCALENDAR