BEGIN:VCALENDAR
VERSION:2.0
PRODID:-//Chestnut Residence at University of Toronto - ECPv6.15.20//NONSGML v1.0//EN
CALSCALE:GREGORIAN
METHOD:PUBLISH
X-WR-CALNAME:Chestnut Residence at University of Toronto
X-ORIGINAL-URL:https://chestnut.utoronto.ca
X-WR-CALDESC:Events for Chestnut Residence at University of Toronto
REFRESH-INTERVAL;VALUE=DURATION:PT1H
X-Robots-Tag:noindex
X-PUBLISHED-TTL:PT1H
BEGIN:VTIMEZONE
TZID:America/Toronto
BEGIN:DAYLIGHT
TZOFFSETFROM:-0500
TZOFFSETTO:-0400
TZNAME:EDT
DTSTART:20220313T070000
END:DAYLIGHT
BEGIN:STANDARD
TZOFFSETFROM:-0400
TZOFFSETTO:-0500
TZNAME:EST
DTSTART:20221106T060000
END:STANDARD
BEGIN:DAYLIGHT
TZOFFSETFROM:-0500
TZOFFSETTO:-0400
TZNAME:EDT
DTSTART:20230312T070000
END:DAYLIGHT
BEGIN:STANDARD
TZOFFSETFROM:-0400
TZOFFSETTO:-0500
TZNAME:EST
DTSTART:20231105T060000
END:STANDARD
BEGIN:DAYLIGHT
TZOFFSETFROM:-0500
TZOFFSETTO:-0400
TZNAME:EDT
DTSTART:20240310T070000
END:DAYLIGHT
BEGIN:STANDARD
TZOFFSETFROM:-0400
TZOFFSETTO:-0500
TZNAME:EST
DTSTART:20241103T060000
END:STANDARD
END:VTIMEZONE
BEGIN:VEVENT
DTSTART;TZID=America/Toronto:20231204T190000
DTEND;TZID=America/Toronto:20231204T210000
DTSTAMP:20260420T120725
CREATED:20231124T221835Z
LAST-MODIFIED:20241119T141129Z
UID:10000040-1701716400-1701723600@chestnut.utoronto.ca
SUMMARY:The Great Chestnut Gingerbread House Competition
DESCRIPTION:Chestnut – it’s Bake Off time!\n\nJoin us for a festive evening of gingerbread house decorating. Prizes will be awarded to the most creative and best decorated houses.\n\nCome with a team or come alone and we’ll set you up. All materials will be provided. No registration required.\n\nWhen and where:\nMonday\, December 4\, 7 – pm in Urban Lounge
URL:https://chestnut.utoronto.ca/event/the-great-chestnut-gingerbread-house-competition/
ATTACH;FMTTYPE=image/jpeg:https://chestnut.utoronto.ca/wp-content/uploads/Gingerbread-comp-poster.jpg
END:VEVENT
BEGIN:VEVENT
DTSTART;TZID=America/Toronto:20231205T200000
DTEND;TZID=America/Toronto:20231205T210000
DTSTAMP:20260420T120725
CREATED:20231116T180706Z
LAST-MODIFIED:20231116T180706Z
UID:10000038-1701806400-1701810000@chestnut.utoronto.ca
SUMMARY:Chestnut Gym Club
DESCRIPTION:Get ready to boost your fitness journey with the Chestnut Gym Club! \nWe are thrilled to invite you to our upcoming gym sessions tailored for both beginners and advanced enthusiasts. Whether you’re just starting out or looking to challenge your existing skills\, we’ve got you covered. \nBeginner Session: December 5th\, 8 – 9pm\nThese sessions are perfect for those who are new to the gym or looking to learn the basics. We’ll cover everything from proper form and technique to setting achievable fitness goals. \nAdvanced Session: November 28th\, 8 – 9pm\nFor our advanced members\, these sessions will focus on more challenging workouts and techniques\, helping you take your fitness to the next level. All sessions will be held in the Chestnut Residence Gym. Remember to bring your gym gear and water bottle. We’re looking forward to helping you achieve your fitness goals in a fun and supportive environment.
URL:https://chestnut.utoronto.ca/event/chestnut-gym-club/
ATTACH;FMTTYPE=image/png:https://chestnut.utoronto.ca/wp-content/uploads/Gym-Club.png
END:VEVENT
END:VCALENDAR