BEGIN:VCALENDAR
VERSION:2.0
PRODID:-//Chestnut Residence at University of Toronto - ECPv6.15.20//NONSGML v1.0//EN
CALSCALE:GREGORIAN
METHOD:PUBLISH
X-WR-CALNAME:Chestnut Residence at University of Toronto
X-ORIGINAL-URL:https://chestnut.utoronto.ca
X-WR-CALDESC:Events for Chestnut Residence at University of Toronto
REFRESH-INTERVAL;VALUE=DURATION:PT1H
X-Robots-Tag:noindex
X-PUBLISHED-TTL:PT1H
BEGIN:VTIMEZONE
TZID:America/Toronto
BEGIN:DAYLIGHT
TZOFFSETFROM:-0500
TZOFFSETTO:-0400
TZNAME:EDT
DTSTART:20220313T070000
END:DAYLIGHT
BEGIN:STANDARD
TZOFFSETFROM:-0400
TZOFFSETTO:-0500
TZNAME:EST
DTSTART:20221106T060000
END:STANDARD
BEGIN:DAYLIGHT
TZOFFSETFROM:-0500
TZOFFSETTO:-0400
TZNAME:EDT
DTSTART:20230312T070000
END:DAYLIGHT
BEGIN:STANDARD
TZOFFSETFROM:-0400
TZOFFSETTO:-0500
TZNAME:EST
DTSTART:20231105T060000
END:STANDARD
BEGIN:DAYLIGHT
TZOFFSETFROM:-0500
TZOFFSETTO:-0400
TZNAME:EDT
DTSTART:20240310T070000
END:DAYLIGHT
BEGIN:STANDARD
TZOFFSETFROM:-0400
TZOFFSETTO:-0500
TZNAME:EST
DTSTART:20241103T060000
END:STANDARD
END:VTIMEZONE
BEGIN:VEVENT
DTSTART;TZID=America/Toronto:20231218T173000
DTEND;TZID=America/Toronto:20231218T193000
DTSTAMP:20260420T124605
CREATED:20231212T181749Z
LAST-MODIFIED:20231212T181749Z
UID:10000043-1702920600-1702927800@chestnut.utoronto.ca
SUMMARY:Community Wellness: Relaxation Station
DESCRIPTION:Focus on your wellness during the exam season! Take a break and pop by the relaxation station for some fun and community. \nEnjoy snacks\, tea\, games\, screen breaks\, friendly chats and more! \nWhen and where:\nDecember 12th\, 16th and 18th\, 5:30 – 7:30pm\, Urban Lounge
URL:https://chestnut.utoronto.ca/event/community-wellness-relaxation-station-3/
ATTACH;FMTTYPE=image/png:https://chestnut.utoronto.ca/wp-content/uploads/Community-Wellness-Relaxation-Station.png
END:VEVENT
BEGIN:VEVENT
DTSTART;TZID=America/Toronto:20231221T163000
DTEND;TZID=America/Toronto:20231221T200000
DTSTAMP:20260420T124605
CREATED:20231214T143545Z
LAST-MODIFIED:20231214T143632Z
UID:10000044-1703176200-1703188800@chestnut.utoronto.ca
SUMMARY:Dinner at Hart House
DESCRIPTION:Get together for a dinner at Hart House! Meet in the Chestnut Lobby at 4:30pm and we’ll walk over together. \nRegister here to attend \nWhen and where:\nThursday December 21st\, 4:30pm in the Chestnut Lobby
URL:https://chestnut.utoronto.ca/event/dinner-at-hart-house-2/
ATTACH;FMTTYPE=image/jpeg:https://chestnut.utoronto.ca/wp-content/uploads/2.jpg
END:VEVENT
BEGIN:VEVENT
DTSTART;TZID=America/Toronto:20231223T130000
DTEND;TZID=America/Toronto:20231223T150000
DTSTAMP:20260420T124605
CREATED:20231214T143916Z
LAST-MODIFIED:20231214T143916Z
UID:10000045-1703336400-1703343600@chestnut.utoronto.ca
SUMMARY:Winter Crafts
DESCRIPTION:Get festive with an afternoon of winter themed crafts. \nWhen and where:\nSaturday\, December 23rd\, 1 – 3pm on the 28th Floor
URL:https://chestnut.utoronto.ca/event/winter-crafts/
ATTACH;FMTTYPE=image/jpeg:https://chestnut.utoronto.ca/wp-content/uploads/3.jpg
END:VEVENT
BEGIN:VEVENT
DTSTART;TZID=America/Toronto:20231224T180000
DTEND;TZID=America/Toronto:20231224T210000
DTSTAMP:20260420T124605
CREATED:20231214T144857Z
LAST-MODIFIED:20231214T144952Z
UID:10000046-1703440800-1703451600@chestnut.utoronto.ca
SUMMARY:Holiday Dinner
DESCRIPTION:Eat and be merry! Join us for a delicious holiday dinner.  \nIf you have any dietary restrictions please fill in this form.  \nWhen and where:\nSunday December 24th\, 6 – 9pm in Urban Lounge
URL:https://chestnut.utoronto.ca/event/holiday-dinner/
ATTACH;FMTTYPE=image/jpeg:https://chestnut.utoronto.ca/wp-content/uploads/4.jpg
END:VEVENT
END:VCALENDAR