BEGIN:VCALENDAR
VERSION:2.0
PRODID:-//Chestnut Residence at University of Toronto - ECPv6.15.20//NONSGML v1.0//EN
CALSCALE:GREGORIAN
METHOD:PUBLISH
X-ORIGINAL-URL:https://chestnut.utoronto.ca
X-WR-CALDESC:Events for Chestnut Residence at University of Toronto
REFRESH-INTERVAL;VALUE=DURATION:PT1H
X-Robots-Tag:noindex
X-PUBLISHED-TTL:PT1H
BEGIN:VTIMEZONE
TZID:America/Toronto
BEGIN:DAYLIGHT
TZOFFSETFROM:-0500
TZOFFSETTO:-0400
TZNAME:EDT
DTSTART:20220313T070000
END:DAYLIGHT
BEGIN:STANDARD
TZOFFSETFROM:-0400
TZOFFSETTO:-0500
TZNAME:EST
DTSTART:20221106T060000
END:STANDARD
BEGIN:DAYLIGHT
TZOFFSETFROM:-0500
TZOFFSETTO:-0400
TZNAME:EDT
DTSTART:20230312T070000
END:DAYLIGHT
BEGIN:STANDARD
TZOFFSETFROM:-0400
TZOFFSETTO:-0500
TZNAME:EST
DTSTART:20231105T060000
END:STANDARD
BEGIN:DAYLIGHT
TZOFFSETFROM:-0500
TZOFFSETTO:-0400
TZNAME:EDT
DTSTART:20240310T070000
END:DAYLIGHT
BEGIN:STANDARD
TZOFFSETFROM:-0400
TZOFFSETTO:-0500
TZNAME:EST
DTSTART:20241103T060000
END:STANDARD
BEGIN:DAYLIGHT
TZOFFSETFROM:-0500
TZOFFSETTO:-0400
TZNAME:EDT
DTSTART:20250309T070000
END:DAYLIGHT
BEGIN:STANDARD
TZOFFSETFROM:-0400
TZOFFSETTO:-0500
TZNAME:EST
DTSTART:20251102T060000
END:STANDARD
END:VTIMEZONE
BEGIN:VEVENT
DTSTART;TZID=America/Toronto:20231225T170000
DTEND;TZID=America/Toronto:20231225T210000
DTSTAMP:20260422T173236
CREATED:20231214T145156Z
LAST-MODIFIED:20231214T145156Z
UID:10000047-1703523600-1703538000@chestnut.utoronto.ca
SUMMARY:Christmas Movie Marathon
DESCRIPTION:Get cosy for an evening of festive films. \nWhen and where:\nMonday December 25th\, 5 – 9pm in Urban Lounge
URL:https://chestnut.utoronto.ca/event/christmas-movie-marathon/
ATTACH;FMTTYPE=image/jpeg:https://chestnut.utoronto.ca/wp-content/uploads/5.jpg
END:VEVENT
BEGIN:VEVENT
DTSTART;TZID=America/Toronto:20231227T150000
DTEND;TZID=America/Toronto:20231227T180000
DTSTAMP:20260422T173236
CREATED:20231214T150220Z
LAST-MODIFIED:20231218T000707Z
UID:10000048-1703689200-1703700000@chestnut.utoronto.ca
SUMMARY:Trip to the Distillery Winter Village
DESCRIPTION:Explore the festive sights of the Distillery Winter Village! \nRegister here to attend. \nWhen and where:\nWednesday December 27th\, meet in the Chestnut Lobby at 3pm
URL:https://chestnut.utoronto.ca/event/trip-to-the-distillery-winter-village/
ATTACH;FMTTYPE=image/jpeg:https://chestnut.utoronto.ca/wp-content/uploads/6.jpg
END:VEVENT
BEGIN:VEVENT
DTSTART;TZID=America/Toronto:20231229T150000
DTEND;TZID=America/Toronto:20231229T180000
DTSTAMP:20260422T173236
CREATED:20231214T150623Z
LAST-MODIFIED:20231215T230209Z
UID:10000049-1703862000-1703872800@chestnut.utoronto.ca
SUMMARY:Trip to the Yorkville Holiday Village
DESCRIPTION:Explore the festive sights of the Yorkville Holiday Village! \nRegister here to attend. \nWhen and where:\nFriday December 29th\, meet in the Chestnut Lobby at 3pm
URL:https://chestnut.utoronto.ca/event/trip-to-the-yorkville-holiday-village/
ATTACH;FMTTYPE=image/jpeg:https://chestnut.utoronto.ca/wp-content/uploads/7.jpg
END:VEVENT
BEGIN:VEVENT
DTSTART;TZID=America/Toronto:20231231T220000
DTEND;TZID=America/Toronto:20240101T003000
DTSTAMP:20260422T173236
CREATED:20231214T150827Z
LAST-MODIFIED:20231214T150905Z
UID:10000050-1704060000-1704069000@chestnut.utoronto.ca
SUMMARY:Movie Night and Ice Cream Social
DESCRIPTION:Ring in the new year with movies\, ice cream and your Chestnut pals! \nWhen and where:\nSunday December 31st\, 10pm – 12:30am in Urban Lounge
URL:https://chestnut.utoronto.ca/event/movie-night-and-ice-cream-social/
ATTACH;FMTTYPE=image/jpeg:https://chestnut.utoronto.ca/wp-content/uploads/8.jpg
END:VEVENT
END:VCALENDAR