BEGIN:VCALENDAR
VERSION:2.0
PRODID:-//Chestnut Residence at University of Toronto - ECPv6.15.20//NONSGML v1.0//EN
CALSCALE:GREGORIAN
METHOD:PUBLISH
X-WR-CALNAME:Chestnut Residence at University of Toronto
X-ORIGINAL-URL:https://chestnut.utoronto.ca
X-WR-CALDESC:Events for Chestnut Residence at University of Toronto
REFRESH-INTERVAL;VALUE=DURATION:PT1H
X-Robots-Tag:noindex
X-PUBLISHED-TTL:PT1H
BEGIN:VTIMEZONE
TZID:America/Toronto
BEGIN:DAYLIGHT
TZOFFSETFROM:-0500
TZOFFSETTO:-0400
TZNAME:EDT
DTSTART:20230312T070000
END:DAYLIGHT
BEGIN:STANDARD
TZOFFSETFROM:-0400
TZOFFSETTO:-0500
TZNAME:EST
DTSTART:20231105T060000
END:STANDARD
BEGIN:DAYLIGHT
TZOFFSETFROM:-0500
TZOFFSETTO:-0400
TZNAME:EDT
DTSTART:20240310T070000
END:DAYLIGHT
BEGIN:STANDARD
TZOFFSETFROM:-0400
TZOFFSETTO:-0500
TZNAME:EST
DTSTART:20241103T060000
END:STANDARD
BEGIN:DAYLIGHT
TZOFFSETFROM:-0500
TZOFFSETTO:-0400
TZNAME:EDT
DTSTART:20250309T070000
END:DAYLIGHT
BEGIN:STANDARD
TZOFFSETFROM:-0400
TZOFFSETTO:-0500
TZNAME:EST
DTSTART:20251102T060000
END:STANDARD
END:VTIMEZONE
BEGIN:VEVENT
DTSTART;TZID=America/Toronto:20240131T190000
DTEND;TZID=America/Toronto:20240131T210000
DTSTAMP:20260420T134141
CREATED:20240119T164633Z
LAST-MODIFIED:20240122T163255Z
UID:10000057-1706727600-1706734800@chestnut.utoronto.ca
SUMMARY:Paper Airplane Competition
DESCRIPTION:How areodynamic are you? Compete with your fellow students to construct the best paper airplane Chestnut has ever seen – and you could win a prize! \nYou can enter in a group of four or drop by on your own and we will create a group for you.Snacks and supplies will be provided \nBubble tea gift cards are up for grabs for the winning team! \nWhen and where:\nWednesday\, January 31st\n7pm in Urban Lounge
URL:https://chestnut.utoronto.ca/event/paper-airplane-competition/
ATTACH;FMTTYPE=image/png:https://chestnut.utoronto.ca/wp-content/uploads/20.png
END:VEVENT
BEGIN:VEVENT
DTSTART;TZID=America/Toronto:20240201T190000
DTEND;TZID=America/Toronto:20240201T203000
DTSTAMP:20260420T134141
CREATED:20240122T163709Z
LAST-MODIFIED:20240122T163709Z
UID:10000058-1706814000-1706819400@chestnut.utoronto.ca
SUMMARY:You Can Do Anything with an ArtSci Degree: Summer Jobs & Career Goals
DESCRIPTION:Calling all Arts & Science students! \nAre you starting to think about your future career prospects? Do you want a summer job that will help towards your long-term career goals? \nIf you’re feeling overwhelmed and looking for guidance\, then join us for an exciting workshop that will de-mystify getting your first step on the career ladder and help you work towards your goals. \nJoin Hannah Stevenson\, Career Educator from the Careers Education and Exploration team for an informative session\, tailored exclusively for Arts and Science students. \nIn this workshop we’ll cover topics such as resume and cover letter tips\, highlighting key ‘next step’ actions for securing a great summer job and identifying your transferable skills to help you stand out to potential employers. \nWhen and where:\nThursday\, February 1st\n7 – 8.30pm\, Urban Lounge
URL:https://chestnut.utoronto.ca/event/you-can-do-anything-with-an-artsci-degree-summer-jobs-career-goals/
ATTACH;FMTTYPE=image/png:https://chestnut.utoronto.ca/wp-content/uploads/Highlights-10.png
END:VEVENT
END:VCALENDAR