BEGIN:VCALENDAR
VERSION:2.0
PRODID:-//Chestnut Residence at University of Toronto - ECPv6.15.20//NONSGML v1.0//EN
CALSCALE:GREGORIAN
METHOD:PUBLISH
X-ORIGINAL-URL:https://chestnut.utoronto.ca
X-WR-CALDESC:Events for Chestnut Residence at University of Toronto
REFRESH-INTERVAL;VALUE=DURATION:PT1H
X-Robots-Tag:noindex
X-PUBLISHED-TTL:PT1H
BEGIN:VTIMEZONE
TZID:America/Toronto
BEGIN:DAYLIGHT
TZOFFSETFROM:-0500
TZOFFSETTO:-0400
TZNAME:EDT
DTSTART:20230312T070000
END:DAYLIGHT
BEGIN:STANDARD
TZOFFSETFROM:-0400
TZOFFSETTO:-0500
TZNAME:EST
DTSTART:20231105T060000
END:STANDARD
BEGIN:DAYLIGHT
TZOFFSETFROM:-0500
TZOFFSETTO:-0400
TZNAME:EDT
DTSTART:20240310T070000
END:DAYLIGHT
BEGIN:STANDARD
TZOFFSETFROM:-0400
TZOFFSETTO:-0500
TZNAME:EST
DTSTART:20241103T060000
END:STANDARD
BEGIN:DAYLIGHT
TZOFFSETFROM:-0500
TZOFFSETTO:-0400
TZNAME:EDT
DTSTART:20250309T070000
END:DAYLIGHT
BEGIN:STANDARD
TZOFFSETFROM:-0400
TZOFFSETTO:-0500
TZNAME:EST
DTSTART:20251102T060000
END:STANDARD
END:VTIMEZONE
BEGIN:VEVENT
DTSTART;TZID=America/Toronto:20240319T190000
DTEND;TZID=America/Toronto:20240319T210000
DTSTAMP:20260422T165620
CREATED:20240131T202719Z
LAST-MODIFIED:20240131T202914Z
UID:10000066-1710874800-1710882000@chestnut.utoronto.ca
SUMMARY:GEARS Winter 2024
DESCRIPTION:Need help studying? Not sure where to start with reviewing materials? \nDrop-in and join one of the weekly study sessions with an upper-year! \n\nTailored to Core8 & TrackOne engineering students’ first-year classes and courses\nMeet upper-year engineering students and receive guidance on reviewing and studying for exams!\nNo registration required; drop-in when you are available!\n\nMore information can be found at uoft.me/gears \nEvery Tuesday at 7pm in the Hearth
URL:https://chestnut.utoronto.ca/event/gears-winter-2024/2024-03-19/
ATTACH;FMTTYPE=image/png:https://chestnut.utoronto.ca/wp-content/uploads/Highlights-24.png
END:VEVENT
BEGIN:VEVENT
DTSTART;TZID=America/Toronto:20240320T173000
DTEND;TZID=America/Toronto:20240320T190000
DTSTAMP:20260422T165620
CREATED:20240307T190849Z
LAST-MODIFIED:20240307T190849Z
UID:10000128-1710955800-1710961200@chestnut.utoronto.ca
SUMMARY:Engineer Study Abroad: Discover What Adventure Awaits
DESCRIPTION:Engineering students\, are you thinking about studying abroad? Then this is the event for you! \nIn this session Undergraduate Research and International Experience Coordinator\, Jennifer Banh\, will answer your questions about how engineering students can study abroad in upper years. \nStories and pictures from past student experiences will be on display. \nFree ‘in flight’ snacks will be provided and available to go for those who are fasting. \nWhen and where:\nWednesday\, March 20\, 5:30pm-7:00pm\nChestnut Lobby \n 
URL:https://chestnut.utoronto.ca/event/engineer-study-abroad-discover-what-adventure-awaits/
ATTACH;FMTTYPE=image/png:https://chestnut.utoronto.ca/wp-content/uploads/Highlights-52.png
END:VEVENT
BEGIN:VEVENT
DTSTART;TZID=America/Toronto:20240322T130000
DTEND;TZID=America/Toronto:20240322T160000
DTSTAMP:20260422T165620
CREATED:20240312T135247Z
LAST-MODIFIED:20240312T135247Z
UID:10000133-1711112400-1711123200@chestnut.utoronto.ca
SUMMARY:Health and Wellness: Peer Support Pop-up
DESCRIPTION:Need someone to hear you out? Support you? Connect you to useful resources? \nHealth & Wellness peer support is here to help. Chat with a trained University of Toronto student peer about whatever is on your mind\, grab some snacks\, and take home some special Health and Wellness merch! \nFor more information about PSS\, please visit uoft.me/peer-support  \nWhen and where:\nFriday\, March 22\n1 – 4pm\, Chestnut Lobby
URL:https://chestnut.utoronto.ca/event/health-and-wellness-peer-support-pop-up/
ATTACH;FMTTYPE=image/png:https://chestnut.utoronto.ca/wp-content/uploads/14463_Update-Peer-Support-Images_V3_Square.png
END:VEVENT
BEGIN:VEVENT
DTSTART;TZID=America/Toronto:20240322T180000
DTEND;TZID=America/Toronto:20240322T200000
DTSTAMP:20260422T165620
CREATED:20240308T193736Z
LAST-MODIFIED:20240308T193736Z
UID:10000132-1711130400-1711137600@chestnut.utoronto.ca
SUMMARY:Make Your Own Sleep Mask
DESCRIPTION:Join us for a cozy\, crafty evening where we’ll be making our very own sleep masks! \nIt’s the perfect accessory to help you drift off into dreamland. \nWe’ll provide all the materials\, and you’ll leave not only with a personalized sleep aid but also tips for improving your sleep quality. \nLet’s unwind\, get creative\, and prepare for better sleep together! \nWhen and where:\nFriday March 22\,\n6 – 8pm\, Urban Lounge
URL:https://chestnut.utoronto.ca/event/make-your-own-sleep-mask/
ATTACH;FMTTYPE=image/png:https://chestnut.utoronto.ca/wp-content/uploads/Highlights-57.png
END:VEVENT
BEGIN:VEVENT
DTSTART;TZID=America/Toronto:20240323T200000
DTEND;TZID=America/Toronto:20240323T230000
DTSTAMP:20260422T165620
CREATED:20240307T202933Z
LAST-MODIFIED:20240308T205231Z
UID:10000130-1711224000-1711234800@chestnut.utoronto.ca
SUMMARY:Engineering ESP: CDS Finish Line Party
DESCRIPTION:Mark your calendars – we’re hosting a work party the weekend before the Conceptual Design Specification project is due! \nThis will be structured work time to learn good time management and work techniques\, giving you a chance to avoid the stress of leaving it until the last minute. \nWe’ll also have snacks to support effective studying. \nWhen and where:\nSaturday\, March 23\n8 – 11pm\, Urban Lounge
URL:https://chestnut.utoronto.ca/event/eng-esp-conceptual-design-specification-work-party/
ATTACH;FMTTYPE=image/png:https://chestnut.utoronto.ca/wp-content/uploads/Highlights-58.png
END:VEVENT
END:VCALENDAR