BEGIN:VCALENDAR
VERSION:2.0
PRODID:-//Chestnut Residence at University of Toronto - ECPv6.15.20//NONSGML v1.0//EN
CALSCALE:GREGORIAN
METHOD:PUBLISH
X-WR-CALNAME:Chestnut Residence at University of Toronto
X-ORIGINAL-URL:https://chestnut.utoronto.ca
X-WR-CALDESC:Events for Chestnut Residence at University of Toronto
REFRESH-INTERVAL;VALUE=DURATION:PT1H
X-Robots-Tag:noindex
X-PUBLISHED-TTL:PT1H
BEGIN:VTIMEZONE
TZID:America/Toronto
BEGIN:DAYLIGHT
TZOFFSETFROM:-0500
TZOFFSETTO:-0400
TZNAME:EDT
DTSTART:20230312T070000
END:DAYLIGHT
BEGIN:STANDARD
TZOFFSETFROM:-0400
TZOFFSETTO:-0500
TZNAME:EST
DTSTART:20231105T060000
END:STANDARD
BEGIN:DAYLIGHT
TZOFFSETFROM:-0500
TZOFFSETTO:-0400
TZNAME:EDT
DTSTART:20240310T070000
END:DAYLIGHT
BEGIN:STANDARD
TZOFFSETFROM:-0400
TZOFFSETTO:-0500
TZNAME:EST
DTSTART:20241103T060000
END:STANDARD
BEGIN:DAYLIGHT
TZOFFSETFROM:-0500
TZOFFSETTO:-0400
TZNAME:EDT
DTSTART:20250309T070000
END:DAYLIGHT
BEGIN:STANDARD
TZOFFSETFROM:-0400
TZOFFSETTO:-0500
TZNAME:EST
DTSTART:20251102T060000
END:STANDARD
END:VTIMEZONE
BEGIN:VEVENT
DTSTART;TZID=America/Toronto:20240402T190000
DTEND;TZID=America/Toronto:20240402T210000
DTSTAMP:20260420T154627
CREATED:20240131T202719Z
LAST-MODIFIED:20240131T202914Z
UID:10000068-1712084400-1712091600@chestnut.utoronto.ca
SUMMARY:GEARS Winter 2024
DESCRIPTION:Need help studying? Not sure where to start with reviewing materials? \nDrop-in and join one of the weekly study sessions with an upper-year! \n\nTailored to Core8 & TrackOne engineering students’ first-year classes and courses\nMeet upper-year engineering students and receive guidance on reviewing and studying for exams!\nNo registration required; drop-in when you are available!\n\nMore information can be found at uoft.me/gears \nEvery Tuesday at 7pm in the Hearth
URL:https://chestnut.utoronto.ca/event/gears-winter-2024/2024-04-02/
ATTACH;FMTTYPE=image/png:https://chestnut.utoronto.ca/wp-content/uploads/Highlights-24.png
END:VEVENT
BEGIN:VEVENT
DTSTART;TZID=America/Toronto:20240406T140000
DTEND;TZID=America/Toronto:20240406T153000
DTSTAMP:20260420T154627
CREATED:20240307T204402Z
LAST-MODIFIED:20240814T134911Z
UID:10000131-1712412000-1712417400@chestnut.utoronto.ca
SUMMARY:Therapy Dogs!
DESCRIPTION:Mark your calendars to meet our volunteer therapy dogs for a relaxing afternoon of wagging tails and belly rubs. \nWhen and where:\nSaturday\, April 6\n2 – 3:30pm\, Urban Lounge
URL:https://chestnut.utoronto.ca/event/therapy-dogs-2/
END:VEVENT
END:VCALENDAR