BEGIN:VCALENDAR
VERSION:2.0
PRODID:-//Chestnut Residence at University of Toronto - ECPv6.15.20//NONSGML v1.0//EN
CALSCALE:GREGORIAN
METHOD:PUBLISH
X-WR-CALNAME:Chestnut Residence at University of Toronto
X-ORIGINAL-URL:https://chestnut.utoronto.ca
X-WR-CALDESC:Events for Chestnut Residence at University of Toronto
REFRESH-INTERVAL;VALUE=DURATION:PT1H
X-Robots-Tag:noindex
X-PUBLISHED-TTL:PT1H
BEGIN:VTIMEZONE
TZID:America/Toronto
BEGIN:DAYLIGHT
TZOFFSETFROM:-0500
TZOFFSETTO:-0400
TZNAME:EDT
DTSTART:20230312T070000
END:DAYLIGHT
BEGIN:STANDARD
TZOFFSETFROM:-0400
TZOFFSETTO:-0500
TZNAME:EST
DTSTART:20231105T060000
END:STANDARD
BEGIN:DAYLIGHT
TZOFFSETFROM:-0500
TZOFFSETTO:-0400
TZNAME:EDT
DTSTART:20240310T070000
END:DAYLIGHT
BEGIN:STANDARD
TZOFFSETFROM:-0400
TZOFFSETTO:-0500
TZNAME:EST
DTSTART:20241103T060000
END:STANDARD
BEGIN:DAYLIGHT
TZOFFSETFROM:-0500
TZOFFSETTO:-0400
TZNAME:EDT
DTSTART:20250309T070000
END:DAYLIGHT
BEGIN:STANDARD
TZOFFSETFROM:-0400
TZOFFSETTO:-0500
TZNAME:EST
DTSTART:20251102T060000
END:STANDARD
END:VTIMEZONE
BEGIN:VEVENT
DTSTART;TZID=America/Toronto:20241008T190000
DTEND;TZID=America/Toronto:20241008T200000
DTSTAMP:20260420T011110
CREATED:20241008T181544Z
LAST-MODIFIED:20241008T181545Z
UID:10000221-1728414000-1728417600@chestnut.utoronto.ca
SUMMARY:GEARS: Engineering First Year Support
DESCRIPTION:Bring your core8 questions! \n\n\n\nEvery week upper-year engineering student will provide tailored support for first year students in core8 courses\, focusing on problem-solving and critical thinking. \n\n\n\nOther upper year engineering students will be there to share insider tips on topics such as efficient study techniques\, reducing procrastination\, and time-management.
URL:https://chestnut.utoronto.ca/event/gears-engineering-first-year-support-3/
LOCATION:The Hearth
ATTACH;FMTTYPE=image/jpeg:https://chestnut.utoronto.ca/wp-content/uploads/study-session.jpg
END:VEVENT
BEGIN:VEVENT
DTSTART;TZID=America/Toronto:20241009T190000
DTEND;TZID=America/Toronto:20241009T210000
DTSTAMP:20260420T011110
CREATED:20240923T202528Z
LAST-MODIFIED:20241004T182556Z
UID:10000209-1728500400-1728507600@chestnut.utoronto.ca
SUMMARY:Engineering First Six Weeks Celebration
DESCRIPTION:You’re already half way done your first term!  \n\n\n\nCome celebrate with cake\, a photo booth\, and a silly game of pin-the-smile-on-the-engineer to congratulate yourself and fire yourself up for midterms!
URL:https://chestnut.utoronto.ca/event/engineering-first-six-weeks-celebration/
LOCATION:Urban Lounge
ATTACH;FMTTYPE=image/png:https://chestnut.utoronto.ca/wp-content/uploads/stock-images-isabelle-10.png
END:VEVENT
END:VCALENDAR