BEGIN:VCALENDAR
VERSION:2.0
PRODID:-//Chestnut Residence at University of Toronto - ECPv6.15.20//NONSGML v1.0//EN
CALSCALE:GREGORIAN
METHOD:PUBLISH
X-WR-CALNAME:Chestnut Residence at University of Toronto
X-ORIGINAL-URL:https://chestnut.utoronto.ca
X-WR-CALDESC:Events for Chestnut Residence at University of Toronto
REFRESH-INTERVAL;VALUE=DURATION:PT1H
X-Robots-Tag:noindex
X-PUBLISHED-TTL:PT1H
BEGIN:VTIMEZONE
TZID:America/Toronto
BEGIN:DAYLIGHT
TZOFFSETFROM:-0500
TZOFFSETTO:-0400
TZNAME:EDT
DTSTART:20230312T070000
END:DAYLIGHT
BEGIN:STANDARD
TZOFFSETFROM:-0400
TZOFFSETTO:-0500
TZNAME:EST
DTSTART:20231105T060000
END:STANDARD
BEGIN:DAYLIGHT
TZOFFSETFROM:-0500
TZOFFSETTO:-0400
TZNAME:EDT
DTSTART:20240310T070000
END:DAYLIGHT
BEGIN:STANDARD
TZOFFSETFROM:-0400
TZOFFSETTO:-0500
TZNAME:EST
DTSTART:20241103T060000
END:STANDARD
BEGIN:DAYLIGHT
TZOFFSETFROM:-0500
TZOFFSETTO:-0400
TZNAME:EDT
DTSTART:20250309T070000
END:DAYLIGHT
BEGIN:STANDARD
TZOFFSETFROM:-0400
TZOFFSETTO:-0500
TZNAME:EST
DTSTART:20251102T060000
END:STANDARD
END:VTIMEZONE
BEGIN:VEVENT
DTSTART;TZID=America/Toronto:20241021T180000
DTEND;TZID=America/Toronto:20241021T200000
DTSTAMP:20260420T023039
CREATED:20241015T004053Z
LAST-MODIFIED:20241015T004053Z
UID:10000233-1729533600-1729540800@chestnut.utoronto.ca
SUMMARY:Wellness Pop-Up Table
DESCRIPTION:Join the Community Wellness Coordinators for their weekly wellness-oriented tabling sessions!  \n\n\n\nEach week you get can involved with a fun activity in the lobby.
URL:https://chestnut.utoronto.ca/event/wellness-pop-up-table-2/
LOCATION:Lobby
ATTACH;FMTTYPE=image/png:https://chestnut.utoronto.ca/wp-content/uploads/stock-images-isabelle-300-x-300-px-7.png
END:VEVENT
BEGIN:VEVENT
DTSTART;TZID=America/Toronto:20241022T190000
DTEND;TZID=America/Toronto:20241022T200000
DTSTAMP:20260420T023039
CREATED:20241008T195746Z
LAST-MODIFIED:20241008T195747Z
UID:10000223-1729623600-1729627200@chestnut.utoronto.ca
SUMMARY:GEARS: Engineering First Year Support
DESCRIPTION:Bring your core8 questions! \n\n\n\nEvery week upper-year engineering student will provide tailored support for first year students in core8 courses\, focusing on problem-solving and critical thinking.  \n\n\n\nOther upper year engineering students will be there to share insider tips on topics such as efficient study techniques\, reducing procrastination\, and time-management.
URL:https://chestnut.utoronto.ca/event/gears-engineering-first-year-support-4/
LOCATION:The Hearth
ATTACH;FMTTYPE=image/jpeg:https://chestnut.utoronto.ca/wp-content/uploads/study-session.jpg
END:VEVENT
BEGIN:VEVENT
DTSTART;TZID=America/Toronto:20241023T190000
DTEND;TZID=America/Toronto:20241023T210000
DTSTAMP:20260420T023039
CREATED:20241015T004702Z
LAST-MODIFIED:20241015T004703Z
UID:10000235-1729710000-1729717200@chestnut.utoronto.ca
SUMMARY:Unwind with Bob Ross: A Guided Paint Night
DESCRIPTION:Unwind and destress with a guided Bob Ross paint night! Supplies and snacks will be provided.
URL:https://chestnut.utoronto.ca/event/unwind-with-bob-ross-a-guided-paint-night/
LOCATION:The Hearth
ATTACH;FMTTYPE=image/png:https://chestnut.utoronto.ca/wp-content/uploads/stock-images-isabelle-300-x-300-px-8.png
END:VEVENT
BEGIN:VEVENT
DTSTART;TZID=America/Toronto:20241026T120000
DTEND;TZID=America/Toronto:20241026T120000
DTSTAMP:20260420T023039
CREATED:20241024T180530Z
LAST-MODIFIED:20241024T180531Z
UID:10000238-1729944000-1729944000@chestnut.utoronto.ca
SUMMARY:Guided Community Ride and Picnic at the Harbourfront
DESCRIPTION:Are you ready for a bike ride and picnic on the Harbourfront? Rent a bike for free or bring your own and learn how to maintain it with a free bike repair workshop. \n\n\n\nLimited bikes available for rent \n\n\n\nWe will walk to BikeChain together (230 College St)\, meet BikeChain experts for a bike repair workshop\, rent bikes for free\, and finally bike to Coronation Park for a picnic. \n\n\n\n\nRegister here
URL:https://chestnut.utoronto.ca/event/guided-community-ride-and-picnic-at-the-harbourfront/
LOCATION:Lobby
ATTACH;FMTTYPE=image/png:https://chestnut.utoronto.ca/wp-content/uploads/stock-images-isabelle-300-x-300-px-12.png
END:VEVENT
END:VCALENDAR