BEGIN:VCALENDAR
VERSION:2.0
PRODID:-//Chestnut Residence at University of Toronto - ECPv6.15.20//NONSGML v1.0//EN
CALSCALE:GREGORIAN
METHOD:PUBLISH
X-WR-CALNAME:Chestnut Residence at University of Toronto
X-ORIGINAL-URL:https://chestnut.utoronto.ca
X-WR-CALDESC:Events for Chestnut Residence at University of Toronto
REFRESH-INTERVAL;VALUE=DURATION:PT1H
X-Robots-Tag:noindex
X-PUBLISHED-TTL:PT1H
BEGIN:VTIMEZONE
TZID:America/Toronto
BEGIN:DAYLIGHT
TZOFFSETFROM:-0500
TZOFFSETTO:-0400
TZNAME:EDT
DTSTART:20230312T070000
END:DAYLIGHT
BEGIN:STANDARD
TZOFFSETFROM:-0400
TZOFFSETTO:-0500
TZNAME:EST
DTSTART:20231105T060000
END:STANDARD
BEGIN:DAYLIGHT
TZOFFSETFROM:-0500
TZOFFSETTO:-0400
TZNAME:EDT
DTSTART:20240310T070000
END:DAYLIGHT
BEGIN:STANDARD
TZOFFSETFROM:-0400
TZOFFSETTO:-0500
TZNAME:EST
DTSTART:20241103T060000
END:STANDARD
BEGIN:DAYLIGHT
TZOFFSETFROM:-0500
TZOFFSETTO:-0400
TZNAME:EDT
DTSTART:20250309T070000
END:DAYLIGHT
BEGIN:STANDARD
TZOFFSETFROM:-0400
TZOFFSETTO:-0500
TZNAME:EST
DTSTART:20251102T060000
END:STANDARD
END:VTIMEZONE
BEGIN:VEVENT
DTSTART;TZID=America/Toronto:20241028T170000
DTEND;TZID=America/Toronto:20241028T190000
DTSTAMP:20260420T103415
CREATED:20241015T004252Z
LAST-MODIFIED:20241015T004252Z
UID:10000234-1730134800-1730142000@chestnut.utoronto.ca
SUMMARY:Wellness Pop-Up Table
DESCRIPTION:Join the Community Wellness Coordinators for their weekly wellness-oriented tabling sessions!  \n\n\n\nEach week you get can involved with a fun activity in the lobby.
URL:https://chestnut.utoronto.ca/event/wellness-pop-up-table-3/
LOCATION:Lobby
ATTACH;FMTTYPE=image/png:https://chestnut.utoronto.ca/wp-content/uploads/stock-images-isabelle-300-x-300-px-7.png
END:VEVENT
BEGIN:VEVENT
DTSTART;TZID=America/Toronto:20241031T183000
DTEND;TZID=America/Toronto:20241031T200000
DTSTAMP:20260420T103415
CREATED:20241024T180008Z
LAST-MODIFIED:20241024T180557Z
UID:10000237-1730399400-1730404800@chestnut.utoronto.ca
SUMMARY:Chestnut Carve-a-Thon
DESCRIPTION:Get ready to carve up some fun at our Carve-a-Thon! \n\n\n\nGrab your friends\, team up\, and let’s get creative with pumpkins! Whether you’re going for the scariest\, cutest\, or most meme-worthy masterpiece\, we’ve got the tools\, snacks\, and a fall-themed photo booth ready for you. \n\n\n\nChoose your category: Scariest\, Most Memeworthy\, Best Movie Character\, Goofiest\, and Cutest.  \n\n\n\nPrizes\, pumpkin-flavoured treats\, and tons of fun await! Winners voted by the Chestnut Dons. \n\n\n\nDon’t miss your chance to carve (or draw if you don’t feel comfortable carving) your way to victory. First come\, first serve—bring your creativity and let’s make some pumpkin magic. \n\n\n\nThirty carving pumpkins and ten drawing pumpkins will be available.
URL:https://chestnut.utoronto.ca/event/chestnut-carve-a-thon/
LOCATION:Urban Lounge
ATTACH;FMTTYPE=image/png:https://chestnut.utoronto.ca/wp-content/uploads/stock-images-isabelle-300-x-300-px-11.png
END:VEVENT
END:VCALENDAR