BEGIN:VCALENDAR
VERSION:2.0
PRODID:-//Chestnut Residence at University of Toronto - ECPv6.15.20//NONSGML v1.0//EN
CALSCALE:GREGORIAN
METHOD:PUBLISH
X-WR-CALNAME:Chestnut Residence at University of Toronto
X-ORIGINAL-URL:https://chestnut.utoronto.ca
X-WR-CALDESC:Events for Chestnut Residence at University of Toronto
REFRESH-INTERVAL;VALUE=DURATION:PT1H
X-Robots-Tag:noindex
X-PUBLISHED-TTL:PT1H
BEGIN:VTIMEZONE
TZID:America/Toronto
BEGIN:DAYLIGHT
TZOFFSETFROM:-0500
TZOFFSETTO:-0400
TZNAME:EDT
DTSTART:20230312T070000
END:DAYLIGHT
BEGIN:STANDARD
TZOFFSETFROM:-0400
TZOFFSETTO:-0500
TZNAME:EST
DTSTART:20231105T060000
END:STANDARD
BEGIN:DAYLIGHT
TZOFFSETFROM:-0500
TZOFFSETTO:-0400
TZNAME:EDT
DTSTART:20240310T070000
END:DAYLIGHT
BEGIN:STANDARD
TZOFFSETFROM:-0400
TZOFFSETTO:-0500
TZNAME:EST
DTSTART:20241103T060000
END:STANDARD
BEGIN:DAYLIGHT
TZOFFSETFROM:-0500
TZOFFSETTO:-0400
TZNAME:EDT
DTSTART:20250309T070000
END:DAYLIGHT
BEGIN:STANDARD
TZOFFSETFROM:-0400
TZOFFSETTO:-0500
TZNAME:EST
DTSTART:20251102T060000
END:STANDARD
END:VTIMEZONE
BEGIN:VEVENT
DTSTART;TZID=America/Toronto:20241112T190000
DTEND;TZID=America/Toronto:20241112T200000
DTSTAMP:20260420T191116
CREATED:20241008T200410Z
LAST-MODIFIED:20241008T200411Z
UID:10000226-1731438000-1731441600@chestnut.utoronto.ca
SUMMARY:GEARS: Engineering First Year Support
DESCRIPTION:Bring your core8 questions! \n\n\n\nEvery week upper-year engineering student will provide tailored support for first year students in core8 courses\, focusing on problem-solving and critical thinking.  \n\n\n\nOther upper year engineering students will be there to share insider tips on topics such as efficient study techniques\, reducing procrastination\, and time-management.
URL:https://chestnut.utoronto.ca/event/gears-engineering-first-year-support-7/
LOCATION:The Hearth
ATTACH;FMTTYPE=image/jpeg:https://chestnut.utoronto.ca/wp-content/uploads/study-session.jpg
END:VEVENT
BEGIN:VEVENT
DTSTART;TZID=America/Toronto:20241113T183000
DTEND;TZID=America/Toronto:20241113T203000
DTSTAMP:20260420T191116
CREATED:20241024T175356Z
LAST-MODIFIED:20241106T202826Z
UID:10000236-1731522600-1731529800@chestnut.utoronto.ca
SUMMARY:Dinner with Your Prof: Engineering Edition
DESCRIPTION:Join us for Chestnut’s famous Dinner With Your Professor event for a chance to chat with your professors over a meal and build your professional network.  \n\n\n\nSpecial Guests \n\n\n\nProfessor Dinushi Munasinghe (MAT188)Professor Shai Cohen (APS163\, MAT186\, MAT188)Professor Philip Asare (APS111)Professor Jennifer Lofgreen (EngSci)Professor Roger Carrick (EngSci)Professor Ben Kinsella (APS111) \n\n\n\n \n\n\n\nAll students are welcome.  
URL:https://chestnut.utoronto.ca/event/dinner-with-your-prof-engineering-edition/
LOCATION:Chestnut Dining Hall
ATTACH;FMTTYPE=image/png:https://chestnut.utoronto.ca/wp-content/uploads/stock-images-isabelle-300-x-300-px-10.png
END:VEVENT
BEGIN:VEVENT
DTSTART;TZID=America/Toronto:20241114T180000
DTEND;TZID=America/Toronto:20241114T200000
DTSTAMP:20260420T191116
CREATED:20241104T185830Z
LAST-MODIFIED:20241104T185831Z
UID:10000244-1731607200-1731614400@chestnut.utoronto.ca
SUMMARY:Fall Wellness Day
DESCRIPTION:Join us to take a break and go on a safari adventure! Meet new animal friends and connect with your residence council and Community Wellness Coordinators!  \n\n\n\nSnacks to be provided. 
URL:https://chestnut.utoronto.ca/event/fall-wellness-day/
LOCATION:The Hearth
ATTACH;FMTTYPE=image/png:https://chestnut.utoronto.ca/wp-content/uploads/wellness-day.png
END:VEVENT
BEGIN:VEVENT
DTSTART;TZID=America/Toronto:20241115T000000
DTEND;TZID=America/Toronto:20241115T235959
DTSTAMP:20260420T191116
CREATED:20241104T163005Z
LAST-MODIFIED:20241104T163006Z
UID:10000243-1731628800-1731715199@chestnut.utoronto.ca
SUMMARY:Final Day to Register with Accessibility Services For Exam Accommodations
DESCRIPTION:Friday\, November 15 is the last day you can register with Accessibility Services for your exam accommodations!
URL:https://chestnut.utoronto.ca/event/final-day-to-register-with-accessibility-services-for-exam-accommodations/
LOCATION:Online
ATTACH;FMTTYPE=image/png:https://chestnut.utoronto.ca/wp-content/uploads/stock-images-isabelle-300-x-300-px-24.png
END:VEVENT
END:VCALENDAR