BEGIN:VCALENDAR
VERSION:2.0
PRODID:-//Chestnut Residence at University of Toronto - ECPv6.15.20//NONSGML v1.0//EN
CALSCALE:GREGORIAN
METHOD:PUBLISH
X-WR-CALNAME:Chestnut Residence at University of Toronto
X-ORIGINAL-URL:https://chestnut.utoronto.ca
X-WR-CALDESC:Events for Chestnut Residence at University of Toronto
REFRESH-INTERVAL;VALUE=DURATION:PT1H
X-Robots-Tag:noindex
X-PUBLISHED-TTL:PT1H
BEGIN:VTIMEZONE
TZID:America/Toronto
BEGIN:DAYLIGHT
TZOFFSETFROM:-0500
TZOFFSETTO:-0400
TZNAME:EDT
DTSTART:20240310T070000
END:DAYLIGHT
BEGIN:STANDARD
TZOFFSETFROM:-0400
TZOFFSETTO:-0500
TZNAME:EST
DTSTART:20241103T060000
END:STANDARD
BEGIN:DAYLIGHT
TZOFFSETFROM:-0500
TZOFFSETTO:-0400
TZNAME:EDT
DTSTART:20250309T070000
END:DAYLIGHT
BEGIN:STANDARD
TZOFFSETFROM:-0400
TZOFFSETTO:-0500
TZNAME:EST
DTSTART:20251102T060000
END:STANDARD
BEGIN:DAYLIGHT
TZOFFSETFROM:-0500
TZOFFSETTO:-0400
TZNAME:EDT
DTSTART:20260308T070000
END:DAYLIGHT
BEGIN:STANDARD
TZOFFSETFROM:-0400
TZOFFSETTO:-0500
TZNAME:EST
DTSTART:20261101T060000
END:STANDARD
END:VTIMEZONE
BEGIN:VEVENT
DTSTART;TZID=America/Toronto:20250128T190000
DTEND;TZID=America/Toronto:20250128T200000
DTSTAMP:20260419T220437
CREATED:20250120T182740Z
LAST-MODIFIED:20250120T182741Z
UID:10000270-1738090800-1738094400@chestnut.utoronto.ca
SUMMARY:GEARS: Engineering First Year Support
DESCRIPTION:Bring your core8 questions! \n\n\n\nEvery week upper-year engineering student will provide tailored support for first year students in core8 courses\, focusing on problem-solving and critical thinking.  \n\n\n\nOther upper year engineering students will be there to share insider tips on topics such as efficient study techniques\, reducing procrastination\, and time-management.
URL:https://chestnut.utoronto.ca/event/gears-engineering-first-year-support-11/
LOCATION:The Hearth
ATTACH;FMTTYPE=image/jpeg:https://chestnut.utoronto.ca/wp-content/uploads/study-session.jpg
END:VEVENT
BEGIN:VEVENT
DTSTART;TZID=America/Toronto:20250129T190000
DTEND;TZID=America/Toronto:20250129T210000
DTSTAMP:20260419T220437
CREATED:20250113T182042Z
LAST-MODIFIED:20250113T182042Z
UID:10000268-1738177200-1738184400@chestnut.utoronto.ca
SUMMARY:Arts and Science Crafting Social
DESCRIPTION:Did you know there are hundreds of students at Chestnut who aren’t in engineering? Join us for the first ArtSci+ social of 2025! This event will feature a crafty clay activity\, snacks\, and a New Years photobooth with polaroid picture opportunities.
URL:https://chestnut.utoronto.ca/event/arts-and-science-crafting-social-2/
LOCATION:Urban Lounge
ATTACH;FMTTYPE=image/png:https://chestnut.utoronto.ca/wp-content/uploads/stock-images-isabelle-300-x-300-px-22.png
END:VEVENT
BEGIN:VEVENT
DTSTART;TZID=America/Toronto:20250130T183000
DTEND;TZID=America/Toronto:20250130T203000
DTSTAMP:20260419T220437
CREATED:20250110T012911Z
LAST-MODIFIED:20250117T223228Z
UID:10000262-1738261800-1738269000@chestnut.utoronto.ca
SUMMARY:Dinner with Your Prof: Engineering Edition
DESCRIPTION:Join us for Chestnut’s famous Dinner With Your Professor event for a chance to chat with your professors over a meal and build your professional network.  \n\n\n\nThis event will have mostly Core8 and EngSci professors. \n\n\n\nProfessor Vianey Leos-Barajas\, who is Chestnut’s Faculty in Residence and an ArtSci professor (Statistics and Environmental Science) will also be there\, as well as Chestnut staff members with graduate degrees in the social sciences.
URL:https://chestnut.utoronto.ca/event/dinner-with-your-prof-engineering-edition-2/
LOCATION:Chestnut Dining Hall
ATTACH;FMTTYPE=image/png:https://chestnut.utoronto.ca/wp-content/uploads/DinnerWithYourProfSquare.png
END:VEVENT
END:VCALENDAR