BEGIN:VCALENDAR
VERSION:2.0
PRODID:-//Chestnut Residence at University of Toronto - ECPv6.15.20//NONSGML v1.0//EN
CALSCALE:GREGORIAN
METHOD:PUBLISH
X-WR-CALNAME:Chestnut Residence at University of Toronto
X-ORIGINAL-URL:https://chestnut.utoronto.ca
X-WR-CALDESC:Events for Chestnut Residence at University of Toronto
REFRESH-INTERVAL;VALUE=DURATION:PT1H
X-Robots-Tag:noindex
X-PUBLISHED-TTL:PT1H
BEGIN:VTIMEZONE
TZID:America/Toronto
BEGIN:DAYLIGHT
TZOFFSETFROM:-0500
TZOFFSETTO:-0400
TZNAME:EDT
DTSTART:20240310T070000
END:DAYLIGHT
BEGIN:STANDARD
TZOFFSETFROM:-0400
TZOFFSETTO:-0500
TZNAME:EST
DTSTART:20241103T060000
END:STANDARD
BEGIN:DAYLIGHT
TZOFFSETFROM:-0500
TZOFFSETTO:-0400
TZNAME:EDT
DTSTART:20250309T070000
END:DAYLIGHT
BEGIN:STANDARD
TZOFFSETFROM:-0400
TZOFFSETTO:-0500
TZNAME:EST
DTSTART:20251102T060000
END:STANDARD
BEGIN:DAYLIGHT
TZOFFSETFROM:-0500
TZOFFSETTO:-0400
TZNAME:EDT
DTSTART:20260308T070000
END:DAYLIGHT
BEGIN:STANDARD
TZOFFSETFROM:-0400
TZOFFSETTO:-0500
TZNAME:EST
DTSTART:20261101T060000
END:STANDARD
END:VTIMEZONE
BEGIN:VEVENT
DTSTART;TZID=America/Toronto:20250304T180000
DTEND;TZID=America/Toronto:20250304T193000
DTSTAMP:20260420T035242
CREATED:20250219T180856Z
LAST-MODIFIED:20250228T161901Z
UID:10000291-1741111200-1741116600@chestnut.utoronto.ca
SUMMARY:Chestnut's Iftar Fest
DESCRIPTION:Break your fast or learn more about Ramadan with delicious shawarma\, sweet treats\, and meaningful conversations. All who wish to engage respectfully and in the spirit of learning and community are welcome!
URL:https://chestnut.utoronto.ca/event/chestnuts-iftar-fest/
LOCATION:Urban Lounge
ATTACH;FMTTYPE=image/png:https://chestnut.utoronto.ca/wp-content/uploads/iftar.png
END:VEVENT
BEGIN:VEVENT
DTSTART;TZID=America/Toronto:20250304T190000
DTEND;TZID=America/Toronto:20250304T200000
DTSTAMP:20260420T035242
CREATED:20250120T183034Z
LAST-MODIFIED:20250120T183034Z
UID:10000276-1741114800-1741118400@chestnut.utoronto.ca
SUMMARY:GEARS: Engineering First Year Support
DESCRIPTION:Bring your core8 questions! \n\n\n\nEvery week upper-year engineering student will provide tailored support for first year students in core8 courses\, focusing on problem-solving and critical thinking.  \n\n\n\nOther upper year engineering students will be there to share insider tips on topics such as efficient study techniques\, reducing procrastination\, and time-management.
URL:https://chestnut.utoronto.ca/event/gears-engineering-first-year-support-16/
LOCATION:The Hearth
ATTACH;FMTTYPE=image/jpeg:https://chestnut.utoronto.ca/wp-content/uploads/study-session.jpg
END:VEVENT
END:VCALENDAR