BEGIN:VCALENDAR
VERSION:2.0
PRODID:-//Chestnut Residence at University of Toronto - ECPv6.15.20//NONSGML v1.0//EN
CALSCALE:GREGORIAN
METHOD:PUBLISH
X-ORIGINAL-URL:https://chestnut.utoronto.ca
X-WR-CALDESC:Events for Chestnut Residence at University of Toronto
REFRESH-INTERVAL;VALUE=DURATION:PT1H
X-Robots-Tag:noindex
X-PUBLISHED-TTL:PT1H
BEGIN:VTIMEZONE
TZID:America/Toronto
BEGIN:DAYLIGHT
TZOFFSETFROM:-0500
TZOFFSETTO:-0400
TZNAME:EDT
DTSTART:20210314T070000
END:DAYLIGHT
BEGIN:STANDARD
TZOFFSETFROM:-0400
TZOFFSETTO:-0500
TZNAME:EST
DTSTART:20211107T060000
END:STANDARD
BEGIN:DAYLIGHT
TZOFFSETFROM:-0500
TZOFFSETTO:-0400
TZNAME:EDT
DTSTART:20220313T070000
END:DAYLIGHT
BEGIN:STANDARD
TZOFFSETFROM:-0400
TZOFFSETTO:-0500
TZNAME:EST
DTSTART:20221106T060000
END:STANDARD
BEGIN:DAYLIGHT
TZOFFSETFROM:-0500
TZOFFSETTO:-0400
TZNAME:EDT
DTSTART:20230312T070000
END:DAYLIGHT
BEGIN:STANDARD
TZOFFSETFROM:-0400
TZOFFSETTO:-0500
TZNAME:EST
DTSTART:20231105T060000
END:STANDARD
BEGIN:DAYLIGHT
TZOFFSETFROM:-0500
TZOFFSETTO:-0400
TZNAME:EDT
DTSTART:20240310T070000
END:DAYLIGHT
BEGIN:STANDARD
TZOFFSETFROM:-0400
TZOFFSETTO:-0500
TZNAME:EST
DTSTART:20241103T060000
END:STANDARD
BEGIN:DAYLIGHT
TZOFFSETFROM:-0500
TZOFFSETTO:-0400
TZNAME:EDT
DTSTART:20250309T070000
END:DAYLIGHT
BEGIN:STANDARD
TZOFFSETFROM:-0400
TZOFFSETTO:-0500
TZNAME:EST
DTSTART:20251102T060000
END:STANDARD
END:VTIMEZONE
BEGIN:VEVENT
DTSTART;TZID=America/Toronto:20241115T000000
DTEND;TZID=America/Toronto:20241115T235959
DTSTAMP:20260423T023148
CREATED:20241104T163005Z
LAST-MODIFIED:20241104T163006Z
UID:10000243-1731628800-1731715199@chestnut.utoronto.ca
SUMMARY:Final Day to Register with Accessibility Services For Exam Accommodations
DESCRIPTION:Friday\, November 15 is the last day you can register with Accessibility Services for your exam accommodations!
URL:https://chestnut.utoronto.ca/event/final-day-to-register-with-accessibility-services-for-exam-accommodations/
LOCATION:Online
ATTACH;FMTTYPE=image/png:https://chestnut.utoronto.ca/wp-content/uploads/stock-images-isabelle-300-x-300-px-24.png
END:VEVENT
BEGIN:VEVENT
DTSTART;TZID=America/Toronto:20220218T210000
DTEND;TZID=America/Toronto:20220218T230000
DTSTAMP:20260423T023148
CREATED:20220216T194349Z
LAST-MODIFIED:20220216T194404Z
UID:10000012-1645218000-1645225200@chestnut.utoronto.ca
SUMMARY:Movie Night: Eternals
DESCRIPTION:JOIN: https://discord.gg/uVjmGtXStZ
URL:https://chestnut.utoronto.ca/event/movie-night-eternals/
LOCATION:Online
END:VEVENT
END:VCALENDAR